BEGIN:VCALENDAR
PRODID:-//planitpurple.northwestern.edu//iCalendar Event//EN
VERSION:2.0
CALSCALE:GREGORIAN
METHOD:PUBLISH
CLASS:PUBLIC
BEGIN:VTIMEZONE
TZID:America/Chicago
TZURL:http://tzurl.org/zoneinfo-outlook/America/Chicago
X-LIC-LOCATION:America/Chicago
BEGIN:DAYLIGHT
TZOFFSETFROM:-0600
TZOFFSETTO:-0500
TZNAME:CDT
DTSTART:19700308T020000
RRULE:FREQ=YEARLY;BYMONTH=3;BYDAY=2SU
END:DAYLIGHT
BEGIN:STANDARD
TZOFFSETFROM:-0500
TZOFFSETTO:-0600
TZNAME:CST
DTSTART:19701101T020000
RRULE:FREQ=YEARLY;BYMONTH=11;BYDAY=1SU
END:STANDARD
END:VTIMEZONE
BEGIN:VEVENT
SEQUENCE:0
DTSTART;TZID=America/Chicago:20170406T160000
DTEND;TZID=America/Chicago:20170406T170000
DTSTAMP:20260425T184434Z
SUMMARY:Chicago Field Studies In-person Information Session - No registration needed
UID:513998@northwestern.edu
TZID:America/Chicago
DESCRIPTION:Information sessions provide you with more in depth information about our courses\, what to expect if accepted to the program\, the internship search process\, application instructions\, and gives you an opportunity to ask questions you have about the program. Students are required to do an information session before applying even if they are abroad. If you are going to be abroad when you will need to apply for CFS\, you can either complete the session online information session or attend an in-person group information session before you go abroad\, if possible.\n\nMore Info: http://www.internships.northwestern.edu/apply/information-sessions.html
LOCATION:1819 Hinman Avenue\, Room 103\, Evanston\, IL 60208
TRANSP:OPAQUE
URL:http://www.internships.northwestern.edu/apply/information-sessions.html
CREATED:20170329T050000Z
STATUS:CONFIRMED
LAST-MODIFIED:20230726T203101Z
PRIORITY:0
BEGIN:VALARM
TRIGGER:-PT10M
ACTION:DISPLAY
DESCRIPTION:Reminder
END:VALARM
END:VEVENT
END:VCALENDAR