BEGIN:VCALENDAR
PRODID:-//planitpurple.northwestern.edu//iCalendar Event//EN
VERSION:2.0
CALSCALE:GREGORIAN
METHOD:PUBLISH
CLASS:PUBLIC
BEGIN:VTIMEZONE
TZID:America/Chicago
TZURL:http://tzurl.org/zoneinfo-outlook/America/Chicago
X-LIC-LOCATION:America/Chicago
BEGIN:DAYLIGHT
TZOFFSETFROM:-0600
TZOFFSETTO:-0500
TZNAME:CDT
DTSTART:19700308T020000
RRULE:FREQ=YEARLY;BYMONTH=3;BYDAY=2SU
END:DAYLIGHT
BEGIN:STANDARD
TZOFFSETFROM:-0500
TZOFFSETTO:-0600
TZNAME:CST
DTSTART:19701101T020000
RRULE:FREQ=YEARLY;BYMONTH=11;BYDAY=1SU
END:STANDARD
END:VTIMEZONE
BEGIN:VEVENT
SEQUENCE:0
DTSTART;TZID=America/Chicago:20171107T090000
DTEND;TZID=America/Chicago:20171107T170000
DTSTAMP:20260424T023118Z
SUMMARY:NUPOC Gallery Features Drawings by Helen Oh
UID:525116@northwestern.edu
TZID:America/Chicago
DESCRIPTION:At NUPOC\, science\, technology\, and art intersect. In recognition of the artistry that is vital to prosthetics and orthotics\, NUPOC is delighted to announce the installation and exhibition of drawings by Helen Oh.  Ms. Oh is a realist painter who has studied with leading realist artists\, including Harvey Dinnerstein\, Aaron Shikler and David Levine. She attended the School of Visual Arts\, National Academy of Design\, and the Art Students League of New York. She holds a BFA from Columbia College Chicago and an MFA from Harrington College of Design. She won a Julius Halligarten Painting Prize from the National Academy Museum and twice received an Elizabeth Greenshields Foundation Grant. Ms. Oh teaches at the School of the Art Institute of Chicago and the Palette and Chisel Academy of Fine Arts (Chicago). She exhibits her work nationally.  NUPOC appreciates Helen Oh and the Palette and Chisel Academy of Fine Arts (Chicago) for making this exhibit possible.\n\nMore Info: http://www.nupoc.northwestern.edu/
LOCATION:NUPOC\, 680 North Lake Shore Drive\, Suite 1100\, Chicago\, IL 60611
TRANSP:OPAQUE
URL:http://www.nupoc.northwestern.edu/
CREATED:20171108T060000Z
STATUS:CONFIRMED
LAST-MODIFIED:20230726T203101Z
PRIORITY:0
BEGIN:VALARM
TRIGGER:-PT10M
ACTION:DISPLAY
DESCRIPTION:Reminder
END:VALARM
END:VEVENT
END:VCALENDAR