BEGIN:VCALENDAR
PRODID:-//planitpurple.northwestern.edu//iCalendar Event//EN
VERSION:2.0
CALSCALE:GREGORIAN
METHOD:PUBLISH
CLASS:PUBLIC
BEGIN:VTIMEZONE
TZID:America/Chicago
TZURL:http://tzurl.org/zoneinfo-outlook/America/Chicago
X-LIC-LOCATION:America/Chicago
BEGIN:DAYLIGHT
TZOFFSETFROM:-0600
TZOFFSETTO:-0500
TZNAME:CDT
DTSTART:19700308T020000
RRULE:FREQ=YEARLY;BYMONTH=3;BYDAY=2SU
END:DAYLIGHT
BEGIN:STANDARD
TZOFFSETFROM:-0500
TZOFFSETTO:-0600
TZNAME:CST
DTSTART:19701101T020000
RRULE:FREQ=YEARLY;BYMONTH=11;BYDAY=1SU
END:STANDARD
END:VTIMEZONE
BEGIN:VEVENT
SEQUENCE:0
DTSTART;VALUE=DATE:20180923
DTEND;VALUE=DATE:20180924
DTSTAMP:20260424T071658Z
SUMMARY:Parent and Family Orientation
UID:532134@northwestern.edu
TZID:America/Chicago
DESCRIPTION:Parent and Family Orientation (PFO) is our opportunity to welcome the families of our incoming students. Parent and Family Orientation begins the afternoon of Friday\, September 21\, 2018 and runs through Sunday\, September 23\, 2018.  Most families are thinking about when they should plan to leave campus\, if they will see their student once student orientation begins\, and other travel concerns. You can find the answers to these questions on our FAQ page.  Registration for the 2018 Parent and Family Orientation will be open on May 1.\n\nMore Info: http://www.northwestern.edu/orientation/families/pfo/index.html
LOCATION:
TRANSP:TRANSPARENT
URL:http://www.northwestern.edu/orientation/families/pfo/index.html
CREATED:20180327T050000Z
STATUS:CONFIRMED
LAST-MODIFIED:20230726T203101Z
PRIORITY:0
END:VEVENT
END:VCALENDAR