BEGIN:VCALENDAR
PRODID:-//planitpurple.northwestern.edu//iCalendar Event//EN
VERSION:2.0
CALSCALE:GREGORIAN
METHOD:PUBLISH
CLASS:PUBLIC
BEGIN:VTIMEZONE
TZID:America/Chicago
TZURL:http://tzurl.org/zoneinfo-outlook/America/Chicago
X-LIC-LOCATION:America/Chicago
BEGIN:DAYLIGHT
TZOFFSETFROM:-0600
TZOFFSETTO:-0500
TZNAME:CDT
DTSTART:19700308T020000
RRULE:FREQ=YEARLY;BYMONTH=3;BYDAY=2SU
END:DAYLIGHT
BEGIN:STANDARD
TZOFFSETFROM:-0500
TZOFFSETTO:-0600
TZNAME:CST
DTSTART:19701101T020000
RRULE:FREQ=YEARLY;BYMONTH=11;BYDAY=1SU
END:STANDARD
END:VTIMEZONE
BEGIN:VEVENT
SEQUENCE:0
DTSTART;TZID=America/Chicago:20190116T160000
DTEND;TZID=America/Chicago:20190116T171500
DTSTAMP:20260425T123936Z
SUMMARY:Engage Chicago Info Session
UID:543958@northwestern.edu
TZID:America/Chicago
DESCRIPTION:Engage Chicago is an eight-week summer field study program that gives bright undergraduates from across the nation a chance to live\, work\, serve and learn together in this remarkable city\, amidst a rich history and culture of civic engagement. The innovative program model deliberately combines academic coursework\, placements at top community organizations/civic institutions\, and powerful community experiences — all under the guidance of expert Northwestern faculty\, staff and community mentors.  Through hands-on experience\, thoughtful reflection\, and a summer living with a vibrant community of peers\, Engage Chicago is designed to be a powerful opportunity for students to learn about a great city\, about social change\, and about themselves.  We have multiple info sessions ahead of our first priority deadline on January 28\, each with a focus on a particular concentration.  Facebook link  Nonprofit ManagementTuesday\, January 156 pm at Annenberg G30  Health + Medicine in partnership with Pre-Health advisingWednesday\, January 164pm at 1940 Sheridan  Urban PlanningThursday\, January 174pm at Tech F280  Community OrganizingTuesday\, January 226pm at The Black House  Law + Advocacy drop-in Open House in partnership with Legal StudiesWednesday\, January 233pm-5:30pm at Kresge 2305  Engage Chicago Office HoursFriday\, January 25Noon to 2pm at 1813 Hinman  If you are not sure which concentration you are interested in\, feel free to stop by any info session. General Engage Chicago details and information will be shared at all sessions.  www.engagechicago.org\n\nMore Info: https://www.facebook.com/events/219694085599494/
LOCATION:1940 Sheridan Road\, Evanston\, IL 60208
TRANSP:OPAQUE
URL:https://www.facebook.com/events/219694085599494/
CREATED:20181214T060000Z
STATUS:CONFIRMED
LAST-MODIFIED:20230726T203101Z
PRIORITY:0
BEGIN:VALARM
TRIGGER:-PT10M
ACTION:DISPLAY
DESCRIPTION:Reminder
END:VALARM
END:VEVENT
END:VCALENDAR