BEGIN:VCALENDAR
PRODID:-//planitpurple.northwestern.edu//iCalendar Event//EN
VERSION:2.0
CALSCALE:GREGORIAN
METHOD:PUBLISH
CLASS:PUBLIC
BEGIN:VTIMEZONE
TZID:America/Chicago
TZURL:http://tzurl.org/zoneinfo-outlook/America/Chicago
X-LIC-LOCATION:America/Chicago
BEGIN:DAYLIGHT
TZOFFSETFROM:-0600
TZOFFSETTO:-0500
TZNAME:CDT
DTSTART:19700308T020000
RRULE:FREQ=YEARLY;BYMONTH=3;BYDAY=2SU
END:DAYLIGHT
BEGIN:STANDARD
TZOFFSETFROM:-0500
TZOFFSETTO:-0600
TZNAME:CST
DTSTART:19701101T020000
RRULE:FREQ=YEARLY;BYMONTH=11;BYDAY=1SU
END:STANDARD
END:VTIMEZONE
BEGIN:VEVENT
SEQUENCE:0
DTSTART;TZID=America/Chicago:20200614T140000
DTEND;TZID=America/Chicago:20200614T154500
DTSTAMP:20260423T121228Z
SUMMARY:National Theatre Live: All My Sons
UID:552485@northwestern.edu
TZID:America/Chicago
DESCRIPTION:By Arthur Miller Featuring Sally Field and Bill Pullman Directed by Jeremy Herrin   Sunday\, June 14 at 2:00PM  Josephine Louis Theater 20 Arts Circle Drive\, Evanston  Broadcast from The Old Vic in London\, Academy Award-winner Sally Field (Steel Magnolias\, Brothers & Sisters) and Bill Pullman (The Sinner\, Independence Day) star in Arthur Miller’s blistering drama.  America\, 1947. Despite hard choices and even harder knocks\, Joe and Kate Keller are a success story. They have built a home\, raised two sons and established a thriving business. But nothing lasts forever and their contented lives\, already shadowed by the loss of their eldest boy to war\, are about to shatter. With the return of a figure from the past\, long buried truths are forced to the surface and the price of their American dream is laid bare.  Jeremy Herrin (NT Live: This House) directs the cast\, which also includes Jenna Coleman (Victoria)\, and Colin Morgan (Merlin) alongside Bessie Carter\, Oliver Johnstone\, Kayla Meikle and Sule Rimi.  National Theatre Live: All My Sons | Trailer  Estimated Running Time: 2 hours and 45 minutes including one 20 minute intermission  Stage on Screen Ticket Pricing General Public $20 Seniors (62+) $16 Area Educator $16 NU Faculty\, Staff\, Emeriti $16 Full-Time Student $12  Box Office: 847-491-7282\n\nMore Info: https://wirtz.northwestern.edu/stage-on-screen/\n\nBuy Tickets: https://web.ovationtix.com/trs/pr/1013490
LOCATION:Wirtz Center for the Performing Arts\, osephine Louis Theater\, 20 Arts Circle Drive\, 1949 Campus Drive\, Evanston\, IL 60208
TRANSP:OPAQUE
URL:https://wirtz.northwestern.edu/stage-on-screen/
CREATED:20190726T050000Z
STATUS:CANCELLED
LAST-MODIFIED:20230726T203101Z
PRIORITY:0
BEGIN:VALARM
TRIGGER:-PT10M
ACTION:DISPLAY
DESCRIPTION:Reminder
END:VALARM
END:VEVENT
END:VCALENDAR