BEGIN:VCALENDAR
PRODID:-//planitpurple.northwestern.edu//iCalendar Event//EN
VERSION:2.0
CALSCALE:GREGORIAN
METHOD:PUBLISH
CLASS:PUBLIC
BEGIN:VTIMEZONE
TZID:America/Chicago
TZURL:http://tzurl.org/zoneinfo-outlook/America/Chicago
X-LIC-LOCATION:America/Chicago
BEGIN:DAYLIGHT
TZOFFSETFROM:-0600
TZOFFSETTO:-0500
TZNAME:CDT
DTSTART:19700308T020000
RRULE:FREQ=YEARLY;BYMONTH=3;BYDAY=2SU
END:DAYLIGHT
BEGIN:STANDARD
TZOFFSETFROM:-0500
TZOFFSETTO:-0600
TZNAME:CST
DTSTART:19701101T020000
RRULE:FREQ=YEARLY;BYMONTH=11;BYDAY=1SU
END:STANDARD
END:VTIMEZONE
BEGIN:VEVENT
SEQUENCE:0
DTSTART;TZID=America/Chicago:20191023T133000
DTEND;TZID=America/Chicago:20191023T153000
DTSTAMP:20260425T223342Z
SUMMARY:Let's Talk
UID:559230@northwestern.edu
TZID:America/Chicago
DESCRIPTION:Let’s Talk is a program that provides drop-in consultations at locations around campus for Northwestern students. It’s free\, no appointment is necessary\, and students are seen on a first-come\, first-served basis.  Just walk in for an informal\, friendly\, and confidential consultation. Speaking with a counselor consultant can help provide insight\, solutions\, and information about other resources.  Join us at Let's Talk on Wednesdays at the Multicultural Center!\n\nMore Info: https://www.northwestern.edu/counseling/outreach-education/lets-talk/index.html
LOCATION:
TRANSP:OPAQUE
URL:https://www.northwestern.edu/counseling/outreach-education/lets-talk/index.html
CREATED:20191023T050000Z
STATUS:CONFIRMED
LAST-MODIFIED:20230726T203101Z
PRIORITY:0
BEGIN:VALARM
TRIGGER:-PT10M
ACTION:DISPLAY
DESCRIPTION:Reminder
END:VALARM
END:VEVENT
END:VCALENDAR