BEGIN:VCALENDAR
PRODID:-//planitpurple.northwestern.edu//iCalendar Event//EN
VERSION:2.0
CALSCALE:GREGORIAN
METHOD:PUBLISH
CLASS:PUBLIC
BEGIN:VTIMEZONE
TZID:America/Chicago
TZURL:http://tzurl.org/zoneinfo-outlook/America/Chicago
X-LIC-LOCATION:America/Chicago
BEGIN:DAYLIGHT
TZOFFSETFROM:-0600
TZOFFSETTO:-0500
TZNAME:CDT
DTSTART:19700308T020000
RRULE:FREQ=YEARLY;BYMONTH=3;BYDAY=2SU
END:DAYLIGHT
BEGIN:STANDARD
TZOFFSETFROM:-0500
TZOFFSETTO:-0600
TZNAME:CST
DTSTART:19701101T020000
RRULE:FREQ=YEARLY;BYMONTH=11;BYDAY=1SU
END:STANDARD
END:VTIMEZONE
BEGIN:VEVENT
SEQUENCE:0
DTSTART;TZID=America/Chicago:20191210T123000
DTEND;TZID=America/Chicago:20191210T170000
DTSTAMP:20260423T192641Z
SUMMARY:Holiday Price Break Rentals
UID:560764@northwestern.edu
TZID:America/Chicago
DESCRIPTION:Rent Outdoors equipment for one rate over the holiday break.  Pick up December 9-13  Return by Tuesday January 7  One Rate $25                                Backpack  Cross Country Ski Set  Sleeping Bag  Tent (any size)  One Rate $5 - Ice Skates  - All other equipment (including snowshoes) $10\n\nMore Info: http://www.norrisoutdoors.northwestern.edu
LOCATION:Norris University Center\, Norris Underground\, 1999 Campus Drive\, Evanston\, IL 60208
TRANSP:OPAQUE
URL:http://www.norrisoutdoors.northwestern.edu
CREATED:20191202T060000Z
STATUS:CONFIRMED
LAST-MODIFIED:20230726T203101Z
PRIORITY:0
BEGIN:VALARM
TRIGGER:-PT10M
ACTION:DISPLAY
DESCRIPTION:Reminder
END:VALARM
END:VEVENT
END:VCALENDAR