BEGIN:VCALENDAR
PRODID:-//planitpurple.northwestern.edu//iCalendar Event//EN
VERSION:2.0
CALSCALE:GREGORIAN
METHOD:PUBLISH
CLASS:PUBLIC
BEGIN:VTIMEZONE
TZID:America/Chicago
TZURL:http://tzurl.org/zoneinfo-outlook/America/Chicago
X-LIC-LOCATION:America/Chicago
BEGIN:DAYLIGHT
TZOFFSETFROM:-0600
TZOFFSETTO:-0500
TZNAME:CDT
DTSTART:19700308T020000
RRULE:FREQ=YEARLY;BYMONTH=3;BYDAY=2SU
END:DAYLIGHT
BEGIN:STANDARD
TZOFFSETFROM:-0500
TZOFFSETTO:-0600
TZNAME:CST
DTSTART:19701101T020000
RRULE:FREQ=YEARLY;BYMONTH=11;BYDAY=1SU
END:STANDARD
END:VTIMEZONE
BEGIN:VEVENT
SEQUENCE:0
DTSTART;TZID=America/Chicago:20221119T193000
DTEND;TZID=America/Chicago:20221119T210000
DTSTAMP:20260421T115655Z
SUMMARY:be mean to me
UID:589499@northwestern.edu
TZID:America/Chicago
DESCRIPTION:A new play by Sofya Levitsky-WeitzDirected by Halena Kays  At 17\, Meril and Jean are best friends who can finish each other's sentences. At 27 they are struggling to reconnect and make sense of their shared past. Moving fluidly across a decade of change\, growth\, divergent choices\, immense love and deep hurt\, playwright Sofya Levitsky-Weitz (a 20015 alum of Northwestern's MFA in Writing for the Stage & Screen) paints a portrait of the power of friendship\, and the damage we can inflict on ourselves in the name of love\, desire\, and ambition.\n\nMore Info: https://wirtz.northwestern.edu\n\nBuy Tickets: https://wirtz.northwestern.edu
LOCATION:Wirtz Center for the Performing Arts\, Hal & Martha Her Wallis Theater\, 1949 Campus Drive\, Evanston\, IL 60208
TRANSP:OPAQUE
URL:https://wirtz.northwestern.edu
CREATED:20220726T050000Z
STATUS:CONFIRMED
LAST-MODIFIED:20230726T203101Z
PRIORITY:0
BEGIN:VALARM
TRIGGER:-PT10M
ACTION:DISPLAY
DESCRIPTION:Reminder
END:VALARM
END:VEVENT
END:VCALENDAR