BEGIN:VCALENDAR
PRODID:-//planitpurple.northwestern.edu//iCalendar Event//EN
VERSION:2.0
CALSCALE:GREGORIAN
METHOD:PUBLISH
CLASS:PUBLIC
BEGIN:VTIMEZONE
TZID:America/Chicago
TZURL:http://tzurl.org/zoneinfo-outlook/America/Chicago
X-LIC-LOCATION:America/Chicago
BEGIN:DAYLIGHT
TZOFFSETFROM:-0600
TZOFFSETTO:-0500
TZNAME:CDT
DTSTART:19700308T020000
RRULE:FREQ=YEARLY;BYMONTH=3;BYDAY=2SU
END:DAYLIGHT
BEGIN:STANDARD
TZOFFSETFROM:-0500
TZOFFSETTO:-0600
TZNAME:CST
DTSTART:19701101T020000
RRULE:FREQ=YEARLY;BYMONTH=11;BYDAY=1SU
END:STANDARD
END:VTIMEZONE
BEGIN:VEVENT
SEQUENCE:0
DTSTART;VALUE=DATE:20230310
DTEND;VALUE=DATE:20230311
DTSTAMP:20260421T222537Z
SUMMARY:Images Commemorating History: A Visual Storytelling Contest 2023
UID:597769@northwestern.edu
TZID:America/Chicago
DESCRIPTION:Come visit the One Book photo contest exhibit. Connecting with the themes of this year's One Book selection\, How the Word is Passed\, A Reckoning with the History of Slavery Across America by Clint Smith. We received many great submissions for our photo contest! Click here to view them all and select your favorite! The photo that receives the most “likes" will win the People’s Choice Award.  Sponsored by: One Book \n\nMore Info: https://www.facebook.com/OneBookNU/photos/pcb.10160175313570792/10160175219215792/
LOCATION:University Library\, One South\, 1970 Campus Drive\, Evanston\, IL 60208
TRANSP:TRANSPARENT
URL:https://www.facebook.com/OneBookNU/photos/pcb.10160175313570792/10160175219215792/
CREATED:20230123T060000Z
STATUS:CONFIRMED
LAST-MODIFIED:20230726T203101Z
PRIORITY:0
END:VEVENT
END:VCALENDAR