BEGIN:VCALENDAR
PRODID:-//planitpurple.northwestern.edu//iCalendar Event//EN
VERSION:2.0
CALSCALE:GREGORIAN
METHOD:PUBLISH
CLASS:PUBLIC
BEGIN:VTIMEZONE
TZID:America/Chicago
TZURL:http://tzurl.org/zoneinfo-outlook/America/Chicago
X-LIC-LOCATION:America/Chicago
BEGIN:DAYLIGHT
TZOFFSETFROM:-0600
TZOFFSETTO:-0500
TZNAME:CDT
DTSTART:19700308T020000
RRULE:FREQ=YEARLY;BYMONTH=3;BYDAY=2SU
END:DAYLIGHT
BEGIN:STANDARD
TZOFFSETFROM:-0500
TZOFFSETTO:-0600
TZNAME:CST
DTSTART:19701101T020000
RRULE:FREQ=YEARLY;BYMONTH=11;BYDAY=1SU
END:STANDARD
END:VTIMEZONE
BEGIN:VEVENT
SEQUENCE:0
DTSTART;TZID=America/Chicago:20230805T080000
DTEND;TZID=America/Chicago:20230805T200000
DTSTAMP:20260424T001510Z
SUMMARY:XII EMEP / I ENNEP - World Meeting on Teaching Portuguese / Meeting of Black Narratives in Portuguese
UID:602318@northwestern.edu
TZID:America/Chicago
DESCRIPTION:The XII EMEP will bring together instructors of Portuguese as a native and non-native language from all over the world\, for a collaborative and cooperative dialogue and learning about each other's experiences\, about innovation\, projects\, materials and new strategies for teaching and learning Portuguese with significant impact in our activity.  The I ENNEP brings together the artistic production of Portuguese-speaking Black communities for an interdisciplinary dialogue with authors\, professors and researchers\, and also explores these productions as pedagogical material for the teaching of  Portuguese as a foreign and heritage language.   \n\nMore Info: https://sites.google.com/view/xii-emep/in%C3%ADciohome
LOCATION:Fisk Hall\, 217\, 1845 Sheridan Road\, Evanston\, IL 60208
TRANSP:OPAQUE
URL:https://sites.google.com/view/xii-emep/in%C3%ADciohome
CREATED:20230727T050000Z
STATUS:CONFIRMED
LAST-MODIFIED:20230803T165819Z
PRIORITY:0
BEGIN:VALARM
TRIGGER:-PT10M
ACTION:DISPLAY
DESCRIPTION:Reminder
END:VALARM
END:VEVENT
END:VCALENDAR