BEGIN:VCALENDAR
PRODID:-//planitpurple.northwestern.edu//iCalendar Event//EN
VERSION:2.0
CALSCALE:GREGORIAN
METHOD:PUBLISH
CLASS:PUBLIC
BEGIN:VTIMEZONE
TZID:America/Chicago
TZURL:http://tzurl.org/zoneinfo-outlook/America/Chicago
X-LIC-LOCATION:America/Chicago
BEGIN:DAYLIGHT
TZOFFSETFROM:-0600
TZOFFSETTO:-0500
TZNAME:CDT
DTSTART:19700308T020000
RRULE:FREQ=YEARLY;BYMONTH=3;BYDAY=2SU
END:DAYLIGHT
BEGIN:STANDARD
TZOFFSETFROM:-0500
TZOFFSETTO:-0600
TZNAME:CST
DTSTART:19701101T020000
RRULE:FREQ=YEARLY;BYMONTH=11;BYDAY=1SU
END:STANDARD
END:VTIMEZONE
BEGIN:VEVENT
SEQUENCE:0
DTSTART;TZID=America/Chicago:20230924T103000
DTEND;TZID=America/Chicago:20230924T210000
DTSTAMP:20260424T174119Z
SUMMARY:Purple Pride Homecoming Banners
UID:603794@northwestern.edu
TZID:America/Chicago
DESCRIPTION:Homecoming 2023 Students Organizations you can receive a deposit of $50 when you create a Homecoming Banner to show off Purple Pride and Spirit!  Sign up in ARTica Studios and pick up the free supplies (includes paints\, brushes\, banner) promotion begins Wednesday September 20 thru Monday October 2.  All completed banners must be returned to ARTica Studios by Noon on Tuesday October 3.  Banners will be on display all over Norris Center- October 3-8.  Banners must have the organization\, name\, logo\, and the words "Homecoming 2023" or "Northwestern Homecoming 2023."  NO OTHER TEXT!  Organizations must provide a full chartstring to receive the transfer deposit of $50.  This activity is sponsored by Northwestern Alumni Relations and Development.  Please note space is limited to 20 organizations. \n\nMore Info: https://www.northwestern.edu/norris/arts-recreation/artica-studios/artica-promotions.html
LOCATION:Norris University Center\, ARTica Studios\, 1999 Campus Drive\, Evanston\, IL 60208
TRANSP:OPAQUE
URL:https://www.northwestern.edu/norris/arts-recreation/artica-studios/artica-promotions.html
CREATED:20230904T050000Z
STATUS:CONFIRMED
LAST-MODIFIED:20230904T140537Z
PRIORITY:0
BEGIN:VALARM
TRIGGER:-PT10M
ACTION:DISPLAY
DESCRIPTION:Reminder
END:VALARM
END:VEVENT
END:VCALENDAR