BEGIN:VCALENDAR
PRODID:-//planitpurple.northwestern.edu//iCalendar Event//EN
VERSION:2.0
CALSCALE:GREGORIAN
METHOD:PUBLISH
CLASS:PUBLIC
BEGIN:VTIMEZONE
TZID:America/Chicago
TZURL:http://tzurl.org/zoneinfo-outlook/America/Chicago
X-LIC-LOCATION:America/Chicago
BEGIN:DAYLIGHT
TZOFFSETFROM:-0600
TZOFFSETTO:-0500
TZNAME:CDT
DTSTART:19700308T020000
RRULE:FREQ=YEARLY;BYMONTH=3;BYDAY=2SU
END:DAYLIGHT
BEGIN:STANDARD
TZOFFSETFROM:-0500
TZOFFSETTO:-0600
TZNAME:CST
DTSTART:19701101T020000
RRULE:FREQ=YEARLY;BYMONTH=11;BYDAY=1SU
END:STANDARD
END:VTIMEZONE
BEGIN:VEVENT
SEQUENCE:0
DTSTART;TZID=America/Chicago:20241009T130000
DTEND;TZID=America/Chicago:20241009T160000
DTSTAMP:20260423T000314Z
SUMMARY:Employer Week ~ Company Day
UID:617335@northwestern.edu
TZID:America/Chicago
DESCRIPTION:Employer Week ~ Company Day  Brought to you by Engineering Career Development (ECD)  Date: Tuesday\, Wednesday\, Thursday during the week of October 7\, 2024  Time: 1:00PM – 4:00PM\, CST Location: Technological Institute (TECH) Front Lobby on Evanston Campus     This is your opportunity to talk with representatives from a variety of companies! This is an informal event to network and learn more about these companies.  Find out what engineer roles they have\, if they have any openings and what their hiring process is.        Save the date and check back to see the full list of participating companies which are subject to change!  Resumes are not required but suggested.     Engineering Career Development (ECD is here to assist as you prepare for the fair. You can schedule an appointment in McCormickConnectto meet with your dedicated career advisor.     Questions? Engineering Career Development (ECD) Office  Ford Motor Engineering and Design Center\, First Floor\, 1.200  847.491.3366  ecd@northwestern.edu       
LOCATION:Technological Institute\, Front Lobby\, 2145 Sheridan Road\, Evanston\, IL 60208
TRANSP:OPAQUE
URL:https://planitpurple.northwestern.edu/event/617335
CREATED:20240701T050000Z
STATUS:CONFIRMED
LAST-MODIFIED:20240701T050000Z
PRIORITY:0
BEGIN:VALARM
TRIGGER:-PT10M
ACTION:DISPLAY
DESCRIPTION:Reminder
END:VALARM
END:VEVENT
END:VCALENDAR