BEGIN:VCALENDAR
PRODID:-//planitpurple.northwestern.edu//iCalendar Event//EN
VERSION:2.0
CALSCALE:GREGORIAN
METHOD:PUBLISH
CLASS:PUBLIC
BEGIN:VTIMEZONE
TZID:America/Chicago
TZURL:http://tzurl.org/zoneinfo-outlook/America/Chicago
X-LIC-LOCATION:America/Chicago
BEGIN:DAYLIGHT
TZOFFSETFROM:-0600
TZOFFSETTO:-0500
TZNAME:CDT
DTSTART:19700308T020000
RRULE:FREQ=YEARLY;BYMONTH=3;BYDAY=2SU
END:DAYLIGHT
BEGIN:STANDARD
TZOFFSETFROM:-0500
TZOFFSETTO:-0600
TZNAME:CST
DTSTART:19701101T020000
RRULE:FREQ=YEARLY;BYMONTH=11;BYDAY=1SU
END:STANDARD
END:VTIMEZONE
BEGIN:VEVENT
SEQUENCE:0
DTSTART;TZID=America/Chicago:20241124T150000
DTEND;TZID=America/Chicago:20241124T173000
DTSTAMP:20260422T172440Z
SUMMARY:SOLD OUT: Benjamin Britten's "Albert Herring"
UID:618336@northwestern.edu
TZID:America/Chicago
DESCRIPTION:Joachim Schamberger\, director; Jason Gluck and Giang Vo\, conductors; members of the Northwestern University Symphony Orchestra  When none of the local girls in the village of Loxford are deemed virtuous enough to be crowned May Queen\, the reticent young grocery clerk Albert Herring is chosen as May King instead. After imbibing a rum-laced lemonade at the May Day festival\, Albert goes missing\, and hilarious pandemonium ensues.  \n\nMore Info: https://www.music.northwestern.edu/events/brittens-albert-herring\n\nBuy Tickets: https://ci.ovationtix.com/36542/performance/11503357
LOCATION:Patrick G. and Shirley W. Ryan Center for the Musical Arts\, Ryan Opera Theater\, 70 Arts Circle\, Evanston\, IL 60208
TRANSP:OPAQUE
URL:https://www.music.northwestern.edu/events/brittens-albert-herring
CREATED:20240814T050000Z
STATUS:CONFIRMED
LAST-MODIFIED:20241122T200015Z
PRIORITY:0
BEGIN:VALARM
TRIGGER:-PT10M
ACTION:DISPLAY
DESCRIPTION:Reminder
END:VALARM
END:VEVENT
END:VCALENDAR