BEGIN:VCALENDAR
PRODID:-//planitpurple.northwestern.edu//iCalendar Event//EN
VERSION:2.0
CALSCALE:GREGORIAN
METHOD:PUBLISH
CLASS:PUBLIC
BEGIN:VTIMEZONE
TZID:America/Chicago
TZURL:http://tzurl.org/zoneinfo-outlook/America/Chicago
X-LIC-LOCATION:America/Chicago
BEGIN:DAYLIGHT
TZOFFSETFROM:-0600
TZOFFSETTO:-0500
TZNAME:CDT
DTSTART:19700308T020000
RRULE:FREQ=YEARLY;BYMONTH=3;BYDAY=2SU
END:DAYLIGHT
BEGIN:STANDARD
TZOFFSETFROM:-0500
TZOFFSETTO:-0600
TZNAME:CST
DTSTART:19701101T020000
RRULE:FREQ=YEARLY;BYMONTH=11;BYDAY=1SU
END:STANDARD
END:VTIMEZONE
BEGIN:VEVENT
SEQUENCE:0
DTSTART;TZID=America/Chicago:20241111T110000
DTEND;TZID=America/Chicago:20241111T120000
DTSTAMP:20260425T025124Z
SUMMARY:Economics 501: Graduate Student Seminar
UID:619156@northwestern.edu
TZID:America/Chicago
DESCRIPTION:Jose Lara (Northwestern University): "Cost-side Effects of Monetary Policy Transmission in a Production Network"
LOCATION:Kellogg Global Hub\, KGH 1410\, 2211 Campus Drive\, Evanston\, IL 60208
TRANSP:OPAQUE
URL:https://planitpurple.northwestern.edu/event/619156
CREATED:20240910T050000Z
STATUS:CONFIRMED
LAST-MODIFIED:20241110T203644Z
PRIORITY:0
BEGIN:VALARM
TRIGGER:-PT10M
ACTION:DISPLAY
DESCRIPTION:Reminder
END:VALARM
END:VEVENT
END:VCALENDAR