BEGIN:VCALENDAR
PRODID:-//planitpurple.northwestern.edu//iCalendar Event//EN
VERSION:2.0
CALSCALE:GREGORIAN
METHOD:PUBLISH
CLASS:PUBLIC
BEGIN:VTIMEZONE
TZID:America/Chicago
TZURL:http://tzurl.org/zoneinfo-outlook/America/Chicago
X-LIC-LOCATION:America/Chicago
BEGIN:DAYLIGHT
TZOFFSETFROM:-0600
TZOFFSETTO:-0500
TZNAME:CDT
DTSTART:19700308T020000
RRULE:FREQ=YEARLY;BYMONTH=3;BYDAY=2SU
END:DAYLIGHT
BEGIN:STANDARD
TZOFFSETFROM:-0500
TZOFFSETTO:-0600
TZNAME:CST
DTSTART:19701101T020000
RRULE:FREQ=YEARLY;BYMONTH=11;BYDAY=1SU
END:STANDARD
END:VTIMEZONE
BEGIN:VEVENT
SEQUENCE:0
DTSTART;TZID=America/Chicago:20241009T190000
DTEND;TZID=America/Chicago:20241009T200000
DTSTAMP:20260423T235944Z
SUMMARY:Vinyasa Flow Yoga
UID:620170@northwestern.edu
TZID:America/Chicago
DESCRIPTION:Vinyasa means “breath-synchronized movement”. This style of yoga focuses on sequential movement that coordinates breath and the transition of postures. This combination works to relax the mind and enhance energy flow throughout the body. (All Levels)
LOCATION:Henry Crown Sports Pavilion\, Studio 2\, 2311 Campus Drive\, Evanston\, IL 60208
TRANSP:OPAQUE
URL:https://planitpurple.northwestern.edu/event/620170
CREATED:20240923T050000Z
STATUS:CONFIRMED
LAST-MODIFIED:20241206T173310Z
PRIORITY:0
BEGIN:VALARM
TRIGGER:-PT10M
ACTION:DISPLAY
DESCRIPTION:Reminder
END:VALARM
END:VEVENT
END:VCALENDAR