BEGIN:VCALENDAR
PRODID:-//planitpurple.northwestern.edu//iCalendar Event//EN
VERSION:2.0
CALSCALE:GREGORIAN
METHOD:PUBLISH
CLASS:PUBLIC
BEGIN:VTIMEZONE
TZID:America/Chicago
TZURL:http://tzurl.org/zoneinfo-outlook/America/Chicago
X-LIC-LOCATION:America/Chicago
BEGIN:DAYLIGHT
TZOFFSETFROM:-0600
TZOFFSETTO:-0500
TZNAME:CDT
DTSTART:19700308T020000
RRULE:FREQ=YEARLY;BYMONTH=3;BYDAY=2SU
END:DAYLIGHT
BEGIN:STANDARD
TZOFFSETFROM:-0500
TZOFFSETTO:-0600
TZNAME:CST
DTSTART:19701101T020000
RRULE:FREQ=YEARLY;BYMONTH=11;BYDAY=1SU
END:STANDARD
END:VTIMEZONE
BEGIN:VEVENT
SEQUENCE:0
DTSTART;TZID=America/Chicago:20260421T100000
DTEND;TZID=America/Chicago:20260421T110000
DTSTAMP:20260421T140842Z
SUMMARY:Andrew Krause (Durham University): Midwest Mathematical Biology Seminar
UID:639598@northwestern.edu
TZID:America/Chicago
DESCRIPTION:https://illinois.zoom.us/j/84907159401?pwd=JboBtq30vntVuEpj8s3yYfAdwlb258.1  Title: Communicating Nonlinear Dynamics Across Boundaries via Interactive Simulations  Abstract: This talk will be a mix of "communicating" and "doing" science in different ways\, aided by modern conceptual and computational tools. I will demonstrate the value of communication across disciplinary boundaries using real-time interactive simulations through VisualPDE.com. I will describe how past and ongoing work with developmental biologists\, geographers\, ecologists\, and microbiologists can be enriched with these tools\, and in particular how deep insights can be rapidly communicated without the need for vast disciplinary expertise. Among other examples\, I will briefly touch on stochasticity in 2D Rayleigh-Bénard convection\, as well as the role of subcritical diffusion-driven instabilities in oncological\, ecological\, and embryological settings\, demonstrating the ease with which nuanced and technical theoretical ideas can be illustrated and explored in real-time. I will end by discussing fundamental limitations of phenomenological dynamical systems modelling in general\, giving rise to the need for better frameworks to do science.  The Midwest Mathematical Biology Seminar will be a series of virtual talks on mathematical biology featuring speakers from the Midwest region and beyond. All areas of mathematical biology will be represented in the seminar series\, and a goal for this seminar is to build connections and foster research collaborations.  More information - https://sites.google.com/view/midwest-mathbio-seminar/home\n\nMore Info: https://sites.google.com/view/midwest-mathbio-seminar/home\n\nWebcast Link: https://illinois.zoom.us/j/84907159401?pwd=JboBtq30vntVuEpj8s3yYfAdwlb258.1
LOCATION:Online
TRANSP:OPAQUE
URL:https://sites.google.com/view/midwest-mathbio-seminar/home
CREATED:20260224T060000Z
STATUS:CONFIRMED
LAST-MODIFIED:20260421T134522Z
PRIORITY:0
BEGIN:VALARM
TRIGGER:-PT10M
ACTION:DISPLAY
DESCRIPTION:Reminder
END:VALARM
END:VEVENT
END:VCALENDAR