BEGIN:VCALENDAR
PRODID:-//planitpurple.northwestern.edu//iCalendar Event//EN
VERSION:2.0
CALSCALE:GREGORIAN
METHOD:PUBLISH
CLASS:PUBLIC
BEGIN:VTIMEZONE
TZID:America/Chicago
TZURL:http://tzurl.org/zoneinfo-outlook/America/Chicago
X-LIC-LOCATION:America/Chicago
BEGIN:DAYLIGHT
TZOFFSETFROM:-0600
TZOFFSETTO:-0500
TZNAME:CDT
DTSTART:19700308T020000
RRULE:FREQ=YEARLY;BYMONTH=3;BYDAY=2SU
END:DAYLIGHT
BEGIN:STANDARD
TZOFFSETFROM:-0500
TZOFFSETTO:-0600
TZNAME:CST
DTSTART:19701101T020000
RRULE:FREQ=YEARLY;BYMONTH=11;BYDAY=1SU
END:STANDARD
END:VTIMEZONE
BEGIN:VEVENT
SEQUENCE:0
DTSTART;TZID=America/Chicago:20260428T100000
DTEND;TZID=America/Chicago:20260428T110000
DTSTAMP:20260421T140915Z
SUMMARY:Changhan He (University of South Carolina): Midwest Mathematical Biology Seminar
UID:639599@northwestern.edu
TZID:America/Chicago
DESCRIPTION:The Midwest Mathematical Biology Seminar will be a series of virtual talks on mathematical biology featuring speakers from the Midwest region and beyond. All areas of mathematical biology will be represented in the seminar series\, and a goal for this seminar is to build connections and foster research collaborations.  More information - https://sites.google.com/view/midwest-mathbio-seminar/home\n\nMore Info: https://sites.google.com/view/midwest-mathbio-seminar/home
LOCATION:
TRANSP:OPAQUE
URL:https://sites.google.com/view/midwest-mathbio-seminar/home
CREATED:20260224T060000Z
STATUS:CONFIRMED
LAST-MODIFIED:20260224T060000Z
PRIORITY:0
BEGIN:VALARM
TRIGGER:-PT10M
ACTION:DISPLAY
DESCRIPTION:Reminder
END:VALARM
END:VEVENT
END:VCALENDAR