BEGIN:VCALENDAR
PRODID:-//planitpurple.northwestern.edu//iCalendar Event//EN
VERSION:2.0
CALSCALE:GREGORIAN
METHOD:PUBLISH
CLASS:PUBLIC
BEGIN:VTIMEZONE
TZID:America/Chicago
TZURL:http://tzurl.org/zoneinfo-outlook/America/Chicago
X-LIC-LOCATION:America/Chicago
BEGIN:DAYLIGHT
TZOFFSETFROM:-0600
TZOFFSETTO:-0500
TZNAME:CDT
DTSTART:19700308T020000
RRULE:FREQ=YEARLY;BYMONTH=3;BYDAY=2SU
END:DAYLIGHT
BEGIN:STANDARD
TZOFFSETFROM:-0500
TZOFFSETTO:-0600
TZNAME:CST
DTSTART:19701101T020000
RRULE:FREQ=YEARLY;BYMONTH=11;BYDAY=1SU
END:STANDARD
END:VTIMEZONE
BEGIN:VEVENT
SEQUENCE:0
DTSTART;TZID=America/Chicago:20260429T153000
DTEND;TZID=America/Chicago:20260429T163000
DTSTAMP:20260421T140910Z
SUMMARY:Sudhanva Kalasapura Venugopal Krishna (University of Chicago): Work-in-Progress
UID:639838@northwestern.edu
TZID:America/Chicago
DESCRIPTION:Title: Investigating the mechanics of bistable twisting in Drosophila hindgut morphogenesis using modeling and quantitative microscopy  Sudhanva Kalasapura Venugopal Krishna is a PhD candidate in the Mitchell and Munro Labs at the University of Chicago.   Members of the NITMB community are invited to join us for Work-In-Progress meetings\, an informal venue an informal venue for members of the NITMB to discuss ongoing and/or planned research.\n\nMore Info: https://www.nitmb.org/events
LOCATION:Suite 3500\, 875 N Michigan Ave\, Chicago\, IL 60611
TRANSP:OPAQUE
URL:https://www.nitmb.org/events
CREATED:20260302T060000Z
STATUS:CONFIRMED
LAST-MODIFIED:20260302T060000Z
PRIORITY:0
BEGIN:VALARM
TRIGGER:-PT10M
ACTION:DISPLAY
DESCRIPTION:Reminder
END:VALARM
END:VEVENT
END:VCALENDAR