BEGIN:VCALENDAR
PRODID:-//planitpurple.northwestern.edu//iCalendar Event//EN
VERSION:2.0
CALSCALE:GREGORIAN
METHOD:PUBLISH
CLASS:PUBLIC
BEGIN:VTIMEZONE
TZID:America/Chicago
TZURL:http://tzurl.org/zoneinfo-outlook/America/Chicago
X-LIC-LOCATION:America/Chicago
BEGIN:DAYLIGHT
TZOFFSETFROM:-0600
TZOFFSETTO:-0500
TZNAME:CDT
DTSTART:19700308T020000
RRULE:FREQ=YEARLY;BYMONTH=3;BYDAY=2SU
END:DAYLIGHT
BEGIN:STANDARD
TZOFFSETFROM:-0500
TZOFFSETTO:-0600
TZNAME:CST
DTSTART:19701101T020000
RRULE:FREQ=YEARLY;BYMONTH=11;BYDAY=1SU
END:STANDARD
END:VTIMEZONE
BEGIN:VEVENT
SEQUENCE:0
DTSTART;TZID=America/Chicago:20260319T150000
DTEND;TZID=America/Chicago:20260319T160000
DTSTAMP:20260420T104626Z
SUMMARY:Interstride Webinar: Job Search Strategy for International Students
UID:639945@northwestern.edu
TZID:America/Chicago
DESCRIPTION:Date: Thursday\, March 19\, 2026 Time: 3:00pm to 4:00pm\, CST Location: Interstride- Register HERE  This workshop introduces well-established processes for positioning yourself to execute a focused and successful US-based job search. Take away a four-step framework to optimize your job search game plan and effectively network to get your foot in the door.\n\nMore Info: https://candidate.gradleaders.com/McCormick/Candidates/Authenticated/Workshops/ViewWorkshop.aspx?wID=124393&bud=%7b%22179%22%3a%22499%22%7d\n\nWebcast Link: https://us02web.zoom.us/webinar/register/WN_zggDK0x6QH68SMOb2cYWFg#/registration
LOCATION:Online
TRANSP:OPAQUE
URL:https://candidate.gradleaders.com/McCormick/Candidates/Authenticated/Workshops/ViewWorkshop.aspx?wID=124393&bud=%7b%22179%22%3a%22499%22%7d
CREATED:20260305T060000Z
STATUS:CONFIRMED
LAST-MODIFIED:20260305T060000Z
PRIORITY:0
BEGIN:VALARM
TRIGGER:-PT10M
ACTION:DISPLAY
DESCRIPTION:Reminder
END:VALARM
END:VEVENT
END:VCALENDAR