BEGIN:VCALENDAR
PRODID:-//planitpurple.northwestern.edu//iCalendar Event//EN
VERSION:2.0
CALSCALE:GREGORIAN
METHOD:PUBLISH
CLASS:PUBLIC
BEGIN:VTIMEZONE
TZID:America/Chicago
TZURL:http://tzurl.org/zoneinfo-outlook/America/Chicago
X-LIC-LOCATION:America/Chicago
BEGIN:DAYLIGHT
TZOFFSETFROM:-0600
TZOFFSETTO:-0500
TZNAME:CDT
DTSTART:19700308T020000
RRULE:FREQ=YEARLY;BYMONTH=3;BYDAY=2SU
END:DAYLIGHT
BEGIN:STANDARD
TZOFFSETFROM:-0500
TZOFFSETTO:-0600
TZNAME:CST
DTSTART:19701101T020000
RRULE:FREQ=YEARLY;BYMONTH=11;BYDAY=1SU
END:STANDARD
END:VTIMEZONE
BEGIN:VEVENT
SEQUENCE:0
DTSTART;TZID=America/Chicago:20260422T113000
DTEND;TZID=America/Chicago:20260422T170000
DTSTAMP:20260422T001531Z
SUMMARY:NITMB Trainee and New Member Open House
UID:640953@northwestern.edu
TZID:America/Chicago
DESCRIPTION:Join us for the annual NITMB Trainee and New Member Open House!  Faculty are welcome!  When: Wednesday\, April 22\, 11:30 AM to 5 PM  --11:30-12: Welcome\, introductions\, and basic orientation to NITMB space and activities --12-1 pm: lunch --1-3:00 Lightning talks --3:00-3:30 light snacks --3:30-4:30: Work-in-Progress talk\, w/Q and A --4:30-5:00: Happy Hour/Reception  Where: NITMB\, Suite 3500\, 875 N. Michigan Ave.  We encourage you to share your research in a 3-5-minute lightning talk (2-3 slides). If you are interested\, please reach out to Julie Des Jardins at Julie.desjardins@northwestern.edu.   If you are an NITMB trainee who does not yet have access to the suite\, you can get it here: (Please make your request no later than 24 hours in advance): https://app.smartsheet.com/b/form/c6ecaefcff8c4c14a2cc41e50c400a5d  Feel free to bring friends and colleagues who might not be NITMB members yet would be interested in research and networking in the institute. (For building access for them\, please contact Julie Des Jardins (Julie.desjardins@northwestern.edu.)
LOCATION:Suite 3500\, 875 N Michigan Ave\, Chicago\, IL 60611
TRANSP:OPAQUE
URL:https://planitpurple.northwestern.edu/event/640953
CREATED:20260325T050000Z
STATUS:CONFIRMED
LAST-MODIFIED:20260325T050000Z
PRIORITY:0
BEGIN:VALARM
TRIGGER:-PT10M
ACTION:DISPLAY
DESCRIPTION:Reminder
END:VALARM
END:VEVENT
END:VCALENDAR