BEGIN:VCALENDAR
PRODID:-//planitpurple.northwestern.edu//iCalendar Event//EN
VERSION:2.0
CALSCALE:GREGORIAN
METHOD:PUBLISH
CLASS:PUBLIC
BEGIN:VTIMEZONE
TZID:America/Chicago
TZURL:http://tzurl.org/zoneinfo-outlook/America/Chicago
X-LIC-LOCATION:America/Chicago
BEGIN:DAYLIGHT
TZOFFSETFROM:-0600
TZOFFSETTO:-0500
TZNAME:CDT
DTSTART:19700308T020000
RRULE:FREQ=YEARLY;BYMONTH=3;BYDAY=2SU
END:DAYLIGHT
BEGIN:STANDARD
TZOFFSETFROM:-0500
TZOFFSETTO:-0600
TZNAME:CST
DTSTART:19701101T020000
RRULE:FREQ=YEARLY;BYMONTH=11;BYDAY=1SU
END:STANDARD
END:VTIMEZONE
BEGIN:VEVENT
SEQUENCE:0
DTSTART;TZID=America/Chicago:20260422T150000
DTEND;TZID=America/Chicago:20260422T160000
DTSTAMP:20260423T045732Z
SUMMARY:Welcome to Spring 2026 Coffee Talk!
UID:641497@northwestern.edu
TZID:America/Chicago
DESCRIPTION:All NU students and scholars from the Evanston and Chicago campuses are welcome to attend!  We are excited to be hosting Coffee Talk for the spring quarter. This is a community support space for all Northwestern students\, scholars\, and those who are interested in global experiences.   Time: Every other Wednesday\, 3:00-4:00 PM Date & Topic: April 22nd- Topic: Letter to your younger Self\, an act of self-compassion and gratitude. \n\nWebcast Link: https://northwestern.zoom.us/j/91921010602?pwd=A98oeM6mbNORtbOI22NpZJCTqHAGon.1\n\nRegister: https://forms.cloud.microsoft/r/6ZCNUvTNg9
LOCATION:International Student and Scholar Services\, International Student and Scholar Services\, Office of\, 630 Dartmouth Place\, Evanston\, IL 60208
TRANSP:OPAQUE
URL:https://planitpurple.northwestern.edu/event/641497
CREATED:20260408T050000Z
STATUS:CONFIRMED
LAST-MODIFIED:20260408T152730Z
PRIORITY:0
BEGIN:VALARM
TRIGGER:-PT10M
ACTION:DISPLAY
DESCRIPTION:Reminder
END:VALARM
END:VEVENT
END:VCALENDAR