BEGIN:VCALENDAR
PRODID:-//planitpurple.northwestern.edu//iCalendar Event//EN
VERSION:2.0
CALSCALE:GREGORIAN
METHOD:PUBLISH
CLASS:PUBLIC
BEGIN:VTIMEZONE
TZID:America/Chicago
TZURL:http://tzurl.org/zoneinfo-outlook/America/Chicago
X-LIC-LOCATION:America/Chicago
BEGIN:DAYLIGHT
TZOFFSETFROM:-0600
TZOFFSETTO:-0500
TZNAME:CDT
DTSTART:19700308T020000
RRULE:FREQ=YEARLY;BYMONTH=3;BYDAY=2SU
END:DAYLIGHT
BEGIN:STANDARD
TZOFFSETFROM:-0500
TZOFFSETTO:-0600
TZNAME:CST
DTSTART:19701101T020000
RRULE:FREQ=YEARLY;BYMONTH=11;BYDAY=1SU
END:STANDARD
END:VTIMEZONE
BEGIN:VEVENT
SEQUENCE:0
DTSTART;TZID=America/Chicago:20260422T120000
DTEND;TZID=America/Chicago:20260422T130000
DTSTAMP:20260420T111013Z
SUMMARY:Virtual Lunch & Learn: Pow Wow 101
UID:641708@northwestern.edu
TZID:America/Chicago
DESCRIPTION:In preparation for NAISA's 5th Annual Traditional Spring Pow Wow\, Native American & Indigenous Affairs is hosting a virtual session for those interested in learning the elements of a pow wow\, basic etiquette\, and open Q&A led by Dave Spencer (Mississippi Chahta/Diné) from Oka Homma Singers. Join us during the lunch hour for this virtual workshop on Wednesday\, April 22\, 2026 from 12pm - 1pm. Register at link!      \n\nWebcast Link: https://northwestern.zoom.us/meeting/register/7seqklZFSNG6EtgwoN75Uw\n\nRegister: https://northwestern.zoom.us/meeting/register/YcGGzZigTwWPrjZ4bgAaUQ
LOCATION:Online
TRANSP:OPAQUE
URL:https://planitpurple.northwestern.edu/event/641708
CREATED:20260413T050000Z
STATUS:CONFIRMED
LAST-MODIFIED:20260417T143256Z
PRIORITY:0
BEGIN:VALARM
TRIGGER:-PT10M
ACTION:DISPLAY
DESCRIPTION:Reminder
END:VALARM
END:VEVENT
END:VCALENDAR