BEGIN:VCALENDAR
PRODID:-//planitpurple.northwestern.edu//iCalendar Event//EN
VERSION:2.0
CALSCALE:GREGORIAN
METHOD:PUBLISH
CLASS:PUBLIC
BEGIN:VTIMEZONE
TZID:America/Chicago
TZURL:http://tzurl.org/zoneinfo-outlook/America/Chicago
X-LIC-LOCATION:America/Chicago
BEGIN:DAYLIGHT
TZOFFSETFROM:-0600
TZOFFSETTO:-0500
TZNAME:CDT
DTSTART:19700308T020000
RRULE:FREQ=YEARLY;BYMONTH=3;BYDAY=2SU
END:DAYLIGHT
BEGIN:STANDARD
TZOFFSETFROM:-0500
TZOFFSETTO:-0600
TZNAME:CST
DTSTART:19701101T020000
RRULE:FREQ=YEARLY;BYMONTH=11;BYDAY=1SU
END:STANDARD
END:VTIMEZONE
BEGIN:VEVENT
SEQUENCE:0
DTSTART;TZID=America/Chicago:20260515T110000
DTEND;TZID=America/Chicago:20260515T114500
DTSTAMP:20260422T001531Z
SUMMARY:12th Annual Honors Day
UID:641724@northwestern.edu
TZID:America/Chicago
DESCRIPTION:Eric G. Neilson\, MD\, vice president for Medical Affairs and Lewis Landsberg Dean\, invites you to attend the 12th annual Honors Day event recognizing graduating medical students who have received an award during the current academic year from Feinberg School of Medicine and the faculty recipients of the George H. Joost Teaching Awards and the Michael M. Ravitch Award.\n\nRegister: https://forms.cloud.microsoft/r/TDZ9dcUV4P
LOCATION:Robert H Lurie Medical Research Center\, Hughes Auditorium\, 303 E. Superior\, Chicago\, IL 60611
TRANSP:OPAQUE
URL:https://planitpurple.northwestern.edu/event/641724
CREATED:20180605T050000Z
STATUS:CONFIRMED
LAST-MODIFIED:20260414T184246Z
PRIORITY:0
BEGIN:VALARM
TRIGGER:-PT10M
ACTION:DISPLAY
DESCRIPTION:Reminder
END:VALARM
END:VEVENT
END:VCALENDAR