BEGIN:VCALENDAR
PRODID:-//planitpurple.northwestern.edu//iCalendar Event//EN
VERSION:2.0
CALSCALE:GREGORIAN
METHOD:PUBLISH
CLASS:PUBLIC
BEGIN:VTIMEZONE
TZID:America/Chicago
TZURL:http://tzurl.org/zoneinfo-outlook/America/Chicago
X-LIC-LOCATION:America/Chicago
BEGIN:DAYLIGHT
TZOFFSETFROM:-0600
TZOFFSETTO:-0500
TZNAME:CDT
DTSTART:19700308T020000
RRULE:FREQ=YEARLY;BYMONTH=3;BYDAY=2SU
END:DAYLIGHT
BEGIN:STANDARD
TZOFFSETFROM:-0500
TZOFFSETTO:-0600
TZNAME:CST
DTSTART:19701101T020000
RRULE:FREQ=YEARLY;BYMONTH=11;BYDAY=1SU
END:STANDARD
END:VTIMEZONE
BEGIN:VEVENT
SEQUENCE:0
DTSTART;TZID=America/Chicago:20260506T120000
DTEND;TZID=America/Chicago:20260506T130000
DTSTAMP:20260424T180731Z
SUMMARY:Supporting Mental Health: Awareness to Action Webinar
UID:641742@northwestern.edu
TZID:America/Chicago
DESCRIPTION:To honor Mental Health Awareness month in May\, Benefits Wellbeing has partnered with EAP SupportLinc to facilitate a one-hour mental health awareness webinar for the NU Faculty and Staff community on May 6 at noon. Register for the webinar to learn how to identify the signs of someone struggling with a mental health issue\, connect with the person in a supportive and appropriate way\, and guide them towards resources. \n\nRegister: https://register.gotowebinar.com/register/1769713896130062431
LOCATION:
TRANSP:OPAQUE
URL:https://planitpurple.northwestern.edu/event/641742
CREATED:20260414T050000Z
STATUS:CONFIRMED
LAST-MODIFIED:20260414T221711Z
PRIORITY:0
BEGIN:VALARM
TRIGGER:-PT10M
ACTION:DISPLAY
DESCRIPTION:Reminder
END:VALARM
END:VEVENT
END:VCALENDAR