BEGIN:VCALENDAR
PRODID:-//planitpurple.northwestern.edu//iCalendar Event//EN
VERSION:2.0
CALSCALE:GREGORIAN
METHOD:PUBLISH
CLASS:PUBLIC
BEGIN:VTIMEZONE
TZID:America/Chicago
TZURL:http://tzurl.org/zoneinfo-outlook/America/Chicago
X-LIC-LOCATION:America/Chicago
BEGIN:DAYLIGHT
TZOFFSETFROM:-0600
TZOFFSETTO:-0500
TZNAME:CDT
DTSTART:19700308T020000
RRULE:FREQ=YEARLY;BYMONTH=3;BYDAY=2SU
END:DAYLIGHT
BEGIN:STANDARD
TZOFFSETFROM:-0500
TZOFFSETTO:-0600
TZNAME:CST
DTSTART:19701101T020000
RRULE:FREQ=YEARLY;BYMONTH=11;BYDAY=1SU
END:STANDARD
END:VTIMEZONE
BEGIN:VEVENT
SEQUENCE:0
DTSTART;TZID=America/Chicago:20260511T120000
DTEND;TZID=America/Chicago:20260511T131500
DTSTAMP:20260420T121502Z
SUMMARY:Online Roundtable: "Holocaust Literatures: A Comparative Approach"
UID:641764@northwestern.edu
TZID:America/Chicago
DESCRIPTION:HEFNU Virtual Speakers Bureau Highlight Event:  "Holocaust Literatures: A Comparative Approach"  Monday\, May 11\, 10-11:15 PT/12-1:15 CT/1-2:15 ET Online Only | Registration required  Featuring Victoria Aarons (Trinity University)\, Jonathan Druker (Illinois State University)\, Ariane Santerre (Université Paris 3 – Sorbonne Nouvelle)\, Sue Vice (University of Sheffield)  As one of the most enduring and widely represented subjects in modern literature\, the Holocaust has been interpreted by survivors and authors alike across a diverse range of genres. From memoirs such as Night by Elie Wiesel\, to diaries such as The Diary of a Young Girl by Anne Frank; from historical fiction such as Number the Stars by Lois Lowry\, to poetry such as “Daddy” by Sylvia Plath\, literary representations of the Holocaust continue to proliferate across languages\, forms\, and generations. Together\, speakers will explore the complexities\, challenges\, and evolving forms of Holocaust representation in literature.   Join this Highlight Event to hear how leading scholars in the Holocaust Educational Foundation's Virtual Speakers Bureau could bring their expertise into your classroom.  Registration Link:  https://northwestern.zoom.us/meeting/register/pk1g1bDXS3SqGh244USvUQ\n\nRegister: https://northwestern.zoom.us/meeting/register/pk1g1bDXS3SqGh244USvUQ
LOCATION:Online
TRANSP:OPAQUE
URL:https://planitpurple.northwestern.edu/event/641764
CREATED:20250205T060000Z
STATUS:CONFIRMED
LAST-MODIFIED:20260415T175111Z
PRIORITY:0
BEGIN:VALARM
TRIGGER:-PT10M
ACTION:DISPLAY
DESCRIPTION:Reminder
END:VALARM
END:VEVENT
END:VCALENDAR