BEGIN:VCALENDAR
PRODID:-//planitpurple.northwestern.edu//iCalendar Event//EN
VERSION:2.0
CALSCALE:GREGORIAN
METHOD:PUBLISH
CLASS:PUBLIC
BEGIN:VTIMEZONE
TZID:America/Chicago
TZURL:http://tzurl.org/zoneinfo-outlook/America/Chicago
X-LIC-LOCATION:America/Chicago
BEGIN:DAYLIGHT
TZOFFSETFROM:-0600
TZOFFSETTO:-0500
TZNAME:CDT
DTSTART:19700308T020000
RRULE:FREQ=YEARLY;BYMONTH=3;BYDAY=2SU
END:DAYLIGHT
BEGIN:STANDARD
TZOFFSETFROM:-0500
TZOFFSETTO:-0600
TZNAME:CST
DTSTART:19701101T020000
RRULE:FREQ=YEARLY;BYMONTH=11;BYDAY=1SU
END:STANDARD
END:VTIMEZONE
BEGIN:VEVENT
SEQUENCE:0
DTSTART;TZID=America/Chicago:20260817T160000
DTEND;TZID=America/Chicago:20260817T170000
DTSTAMP:20260419T233936Z
SUMMARY:Trip Leader Training
UID:641766@northwestern.edu
TZID:America/Chicago
DESCRIPTION:Regardless of the destination or duration of a university-sponsored trip or program abroad\, Northwestern employees who accompany students abroad accept a leadership role in understanding and mitigating risk. Trip Leader Training is designed for faculty and staff to help them identify and manage foreseeable risks as well as be prepared to respond to emergencies. Register below with a Northwestern email address or email globalsafety@northwestern.edu if you have questions.\n\nMore Info: https://www.northwestern.edu/global-safety-security//travel-policies/faculty-staff/index.html\n\nRegister: https://northwestern.zoom.us/meeting/register/8784FDwlS7icSnukKpyjGw
LOCATION:Online
TRANSP:OPAQUE
URL:https://www.northwestern.edu/global-safety-security//travel-policies/faculty-staff/index.html
CREATED:20260415T050000Z
STATUS:CONFIRMED
LAST-MODIFIED:20260415T191750Z
PRIORITY:0
BEGIN:VALARM
TRIGGER:-PT10M
ACTION:DISPLAY
DESCRIPTION:Reminder
END:VALARM
END:VEVENT
END:VCALENDAR