BEGIN:VCALENDAR
PRODID:-//planitpurple.northwestern.edu//iCalendar Event//EN
VERSION:2.0
CALSCALE:GREGORIAN
METHOD:PUBLISH
CLASS:PUBLIC
BEGIN:VTIMEZONE
TZID:America/Chicago
TZURL:http://tzurl.org/zoneinfo-outlook/America/Chicago
X-LIC-LOCATION:America/Chicago
BEGIN:DAYLIGHT
TZOFFSETFROM:-0600
TZOFFSETTO:-0500
TZNAME:CDT
DTSTART:19700308T020000
RRULE:FREQ=YEARLY;BYMONTH=3;BYDAY=2SU
END:DAYLIGHT
BEGIN:STANDARD
TZOFFSETFROM:-0500
TZOFFSETTO:-0600
TZNAME:CST
DTSTART:19701101T020000
RRULE:FREQ=YEARLY;BYMONTH=11;BYDAY=1SU
END:STANDARD
END:VTIMEZONE
BEGIN:VEVENT
SEQUENCE:0
DTSTART;TZID=America/Chicago:20260526T170000
DTEND;TZID=America/Chicago:20260526T183000
DTSTAMP:20260420T024436Z
SUMMARY:Where Public Humanities Meets Public Policy - Wesleyan's Center for the Study of Guns and Society
UID:641771@northwestern.edu
TZID:America/Chicago
DESCRIPTION:Established in 2022\, Wesleyan’s Center for the Study of Guns and Society is a hub for interdisciplinary research\, teaching\, and pedagogical innovation on topics related to guns\, history\, law\, and society. Jennifer Tucker\, Founding Director and Professor of History\, will discuss the Center’s work\, including new research on gun regulation in the early United States.     Presented by the Department of History\, the Chabraja Center for Historical Studies\, and the Kaplan Humanities Institute.  Save
LOCATION:Kresge Hall\, #2351 (Kaplan Institute)\, 1880 Campus Drive\, Evanston\, IL 60208
TRANSP:OPAQUE
URL:https://planitpurple.northwestern.edu/event/641771
CREATED:20260415T050000Z
STATUS:CONFIRMED
LAST-MODIFIED:20260415T233200Z
PRIORITY:0
BEGIN:VALARM
TRIGGER:-PT10M
ACTION:DISPLAY
DESCRIPTION:Reminder
END:VALARM
END:VEVENT
END:VCALENDAR