BEGIN:VCALENDAR
PRODID:-//planitpurple.northwestern.edu//iCalendar Event//EN
VERSION:2.0
CALSCALE:GREGORIAN
METHOD:PUBLISH
CLASS:PUBLIC
BEGIN:VTIMEZONE
TZID:America/Chicago
TZURL:http://tzurl.org/zoneinfo-outlook/America/Chicago
X-LIC-LOCATION:America/Chicago
BEGIN:DAYLIGHT
TZOFFSETFROM:-0600
TZOFFSETTO:-0500
TZNAME:CDT
DTSTART:19700308T020000
RRULE:FREQ=YEARLY;BYMONTH=3;BYDAY=2SU
END:DAYLIGHT
BEGIN:STANDARD
TZOFFSETFROM:-0500
TZOFFSETTO:-0600
TZNAME:CST
DTSTART:19701101T020000
RRULE:FREQ=YEARLY;BYMONTH=11;BYDAY=1SU
END:STANDARD
END:VTIMEZONE
BEGIN:VEVENT
SEQUENCE:0
DTSTART;TZID=America/Chicago:20260502T130000
DTEND;TZID=America/Chicago:20260502T170000
DTSTAMP:20260422T001532Z
SUMMARY:Black Experience at Northwestern—Celebration of NU History
UID:641786@northwestern.edu
TZID:America/Chicago
DESCRIPTION:Join Northwestern University Libraries and Northwestern University Black Alumni Association for an afternoon of celebrating pivotal moments in Black student life at Northwestern.  Exhibit Opening: Stay with God: The Northwestern Community Ensemble and Black Sacred Music on Campus | 1:00 p.m. - 2:30 p.m.  Stay with God celebrates NCE’s 55th anniversary\, exploring its founding to its lasting legacy\, highlighting the traditions\, milestones\, and evolving impact of Black sacred music at Northwestern University. Join us to experience the exhibit and hear a special conversation with NCE co-founder Eileen Cherry-Chandler\, moderated by Professor Ava Thompson Greenwell.  Documentary Screening: The Takeover | 2:30 p.m. - 5:00 p.m.  On May 3-4\, 1968\, more than 100 students from student organizations For Members Only and the Afro-American Student Union led a protest calling for changes to improve the Black student experience at Northwestern. NUBAA hosts this documentary screening featuring firsthand accounts from the students who organized and participated in the protest.  Light reception to follow.
LOCATION:Deering Library\, Devereaux Room (Room 208)\, 1937 Sheridan Road\, Evanston\, IL 60208
TRANSP:OPAQUE
URL:https://planitpurple.northwestern.edu/event/641786
CREATED:20260416T050000Z
STATUS:CONFIRMED
LAST-MODIFIED:20260416T050000Z
PRIORITY:0
BEGIN:VALARM
TRIGGER:-PT10M
ACTION:DISPLAY
DESCRIPTION:Reminder
END:VALARM
END:VEVENT
END:VCALENDAR