BEGIN:VCALENDAR
PRODID:-//planitpurple.northwestern.edu//iCalendar Event//EN
VERSION:2.0
CALSCALE:GREGORIAN
METHOD:PUBLISH
CLASS:PUBLIC
BEGIN:VTIMEZONE
TZID:America/Chicago
TZURL:http://tzurl.org/zoneinfo-outlook/America/Chicago
X-LIC-LOCATION:America/Chicago
BEGIN:DAYLIGHT
TZOFFSETFROM:-0600
TZOFFSETTO:-0500
TZNAME:CDT
DTSTART:19700308T020000
RRULE:FREQ=YEARLY;BYMONTH=3;BYDAY=2SU
END:DAYLIGHT
BEGIN:STANDARD
TZOFFSETFROM:-0500
TZOFFSETTO:-0600
TZNAME:CST
DTSTART:19701101T020000
RRULE:FREQ=YEARLY;BYMONTH=11;BYDAY=1SU
END:STANDARD
END:VTIMEZONE
BEGIN:VEVENT
SEQUENCE:0
DTSTART;TZID=America/Chicago:20260505T110000
DTEND;TZID=America/Chicago:20260505T140000
DTSTAMP:20260421T174646Z
SUMMARY:Skin Cancer Awareness & Cancer Resource Fair
UID:641804@northwestern.edu
TZID:America/Chicago
DESCRIPTION:Join us for a complimetary one-hour educational session focused on skin cancer prevention\, early detection\, and treatment. Designed for patients\, caregivers\, and community members\, this program features expert physicians who will share practical tips on recognizing warning signs\, what to expect during a skin exam\, and how skin cancer is diagnosed and treated—including the latest advances in care. The program includes a live Q&A with physicians and a boxed lunch.  Stay after the lecture for a resource fair featuring local organizations offering support services for patients\, families\, and caregivers in the adjacent Ryan Family Atrium.\n\nMore Info: https://www.cancer.northwestern.edu/events/public/cancer-connections/index.html\n\nRegister: https://lcc.northwestern.edu/registrations2/connections2026a/
LOCATION:Robert H Lurie Medical Research Center\, Searle/Atrium\, 303 E. Superior\, Chicago\, IL 60611
TRANSP:OPAQUE
URL:https://www.cancer.northwestern.edu/events/public/cancer-connections/index.html
CREATED:20260420T050000Z
STATUS:CONFIRMED
LAST-MODIFIED:20260420T050000Z
PRIORITY:0
BEGIN:VALARM
TRIGGER:-PT10M
ACTION:DISPLAY
DESCRIPTION:Reminder
END:VALARM
END:VEVENT
END:VCALENDAR