BEGIN:VCALENDAR
PRODID:-//planitpurple.northwestern.edu//iCalendar Event//EN
VERSION:2.0
CALSCALE:GREGORIAN
METHOD:PUBLISH
CLASS:PUBLIC
BEGIN:VTIMEZONE
TZID:America/Chicago
TZURL:http://tzurl.org/zoneinfo-outlook/America/Chicago
X-LIC-LOCATION:America/Chicago
BEGIN:DAYLIGHT
TZOFFSETFROM:-0600
TZOFFSETTO:-0500
TZNAME:CDT
DTSTART:19700308T020000
RRULE:FREQ=YEARLY;BYMONTH=3;BYDAY=2SU
END:DAYLIGHT
BEGIN:STANDARD
TZOFFSETFROM:-0500
TZOFFSETTO:-0600
TZNAME:CST
DTSTART:19701101T020000
RRULE:FREQ=YEARLY;BYMONTH=11;BYDAY=1SU
END:STANDARD
END:VTIMEZONE
BEGIN:VEVENT
SEQUENCE:0
DTSTART;TZID=America/Chicago:20260506T150000
DTEND;TZID=America/Chicago:20260506T160000
DTSTAMP:20260422T065907Z
SUMMARY:Notes From a Queer Cripple: Sex\, Disability\, and So Much More
UID:641840@northwestern.edu
TZID:America/Chicago
DESCRIPTION:In this talk with author and Disability Awareness Consultant Andrew Gurza\, we will talk about sexuality\, disability\, queerness and how they intersect. How do we be anti-ableist in the bedroom and in LGBTQ+ spaces? Andrew will also read an excerpt from his new book Notes From A Queer Cripple\, and answer your burning questions about sex and disability.  Andrew Gurza is an award winning Disability Awareness Consultant and author of the book\, Notes From a Queer Cripple: How to Cultivate Queer Disabled Joy (and be hot while doing it!)   Andrew uses they/he pronouns and identifies proudly as severely disabled.   He was the subject of an award winning National Film Board of Canada Documentary “Picture This”. Andrew has guested on a number of podcasts including Dan Savage’s Savage Love. They have spoken all over the world on sex\, disability and what it means to be a Queer Cripple. They were also a Production Consultant and Actor on the Queer As Folk reboot in 2022.   He is also the host of Disability After Dark: The Podcast Shining a Bright Light on Disability Stories  which won a Canadian Podcast Award in 2021\, was a Queerty Award nominee\, and was chosen as an Honoree at the 2020 Webby Awards. The show is available on all platforms. Andrew  is also the creator of the viral hashtag #DisabledPeopleAreHot. You can find out more about Andrew and hire them by going to andrewgurza.com \n\nRegister: https://www.eventbrite.com/e/1987845183455?aff=oddtdtcreator
LOCATION:Harris Hall\, Room 107\, 1881 Sheridan Road\, Evanston\, IL 60208
TRANSP:OPAQUE
URL:https://planitpurple.northwestern.edu/event/641840
CREATED:20260420T050000Z
STATUS:CONFIRMED
LAST-MODIFIED:20260420T050000Z
PRIORITY:0
BEGIN:VALARM
TRIGGER:-PT10M
ACTION:DISPLAY
DESCRIPTION:Reminder
END:VALARM
END:VEVENT
END:VCALENDAR