BEGIN:VCALENDAR
PRODID:-//planitpurple.northwestern.edu//iCalendar Event//EN
VERSION:2.0
CALSCALE:GREGORIAN
METHOD:PUBLISH
CLASS:PUBLIC
BEGIN:VTIMEZONE
TZID:America/Chicago
TZURL:http://tzurl.org/zoneinfo-outlook/America/Chicago
X-LIC-LOCATION:America/Chicago
BEGIN:DAYLIGHT
TZOFFSETFROM:-0600
TZOFFSETTO:-0500
TZNAME:CDT
DTSTART:19700308T020000
RRULE:FREQ=YEARLY;BYMONTH=3;BYDAY=2SU
END:DAYLIGHT
BEGIN:STANDARD
TZOFFSETFROM:-0500
TZOFFSETTO:-0600
TZNAME:CST
DTSTART:19701101T020000
RRULE:FREQ=YEARLY;BYMONTH=11;BYDAY=1SU
END:STANDARD
END:VTIMEZONE
BEGIN:VEVENT
SEQUENCE:0
DTSTART;TZID=America/Chicago:20260529T140000
DTEND;TZID=America/Chicago:20260529T150000
DTSTAMP:20260421T174636Z
SUMMARY:DGP Student Thesis Seminar - Iris Qianli Liu - Dr. Ben Singer Lab
UID:641845@northwestern.edu
TZID:America/Chicago
DESCRIPTION:Title of Presentation:   "Assessing Predictive Methylation and Transcriptional Markers Associated with Respiratory Disease Outcomes Using a Novel Enzyme-based Method"     This is a hybrid event. For Zoom access or more information\, email rachael.hill@northwestern.edu. 
LOCATION:Robert H Lurie Medical Research Center\, Baldwin Auditorium (Lurie 1-123)\, 303 E. Superior\, Chicago\, IL 60611
TRANSP:OPAQUE
URL:https://planitpurple.northwestern.edu/event/641845
CREATED:20260420T050000Z
STATUS:CONFIRMED
LAST-MODIFIED:20260420T050000Z
PRIORITY:0
BEGIN:VALARM
TRIGGER:-PT10M
ACTION:DISPLAY
DESCRIPTION:Reminder
END:VALARM
END:VEVENT
END:VCALENDAR