BEGIN:VCALENDAR
PRODID:-//planitpurple.northwestern.edu//iCalendar Event//EN
VERSION:2.0
CALSCALE:GREGORIAN
METHOD:PUBLISH
CLASS:PUBLIC
BEGIN:VTIMEZONE
TZID:America/Chicago
TZURL:http://tzurl.org/zoneinfo-outlook/America/Chicago
X-LIC-LOCATION:America/Chicago
BEGIN:DAYLIGHT
TZOFFSETFROM:-0600
TZOFFSETTO:-0500
TZNAME:CDT
DTSTART:19700308T020000
RRULE:FREQ=YEARLY;BYMONTH=3;BYDAY=2SU
END:DAYLIGHT
BEGIN:STANDARD
TZOFFSETFROM:-0500
TZOFFSETTO:-0600
TZNAME:CST
DTSTART:19701101T020000
RRULE:FREQ=YEARLY;BYMONTH=11;BYDAY=1SU
END:STANDARD
END:VTIMEZONE
BEGIN:VEVENT
SEQUENCE:0
DTSTART;TZID=America/Chicago:20260507T120000
DTEND;TZID=America/Chicago:20260507T131500
DTSTAMP:20260423T025016Z
SUMMARY:The Hidden Face of the Confessional Empire: Islamophobia in Russia | A book talk by Paolo Sartori
UID:641863@northwestern.edu
TZID:America/Chicago
DESCRIPTION:Please join the East Asia Research Forum as they host a Zoom talk with Paolo Sartori.     Please register for this online event.\n\nRegister: https://northwestern.zoom.us/meeting/register/FGp_7qz7QhGXrbFii-k2ig
LOCATION:Online
TRANSP:OPAQUE
URL:https://planitpurple.northwestern.edu/event/641863
CREATED:20260421T050000Z
STATUS:CONFIRMED
LAST-MODIFIED:20260421T155823Z
PRIORITY:0
BEGIN:VALARM
TRIGGER:-PT10M
ACTION:DISPLAY
DESCRIPTION:Reminder
END:VALARM
END:VEVENT
END:VCALENDAR