BEGIN:VCALENDAR
PRODID:-//planitpurple.northwestern.edu//iCalendar Event//EN
VERSION:2.0
CALSCALE:GREGORIAN
METHOD:PUBLISH
CLASS:PUBLIC
BEGIN:VTIMEZONE
TZID:America/Chicago
TZURL:http://tzurl.org/zoneinfo-outlook/America/Chicago
X-LIC-LOCATION:America/Chicago
BEGIN:DAYLIGHT
TZOFFSETFROM:-0600
TZOFFSETTO:-0500
TZNAME:CDT
DTSTART:19700308T020000
RRULE:FREQ=YEARLY;BYMONTH=3;BYDAY=2SU
END:DAYLIGHT
BEGIN:STANDARD
TZOFFSETFROM:-0500
TZOFFSETTO:-0600
TZNAME:CST
DTSTART:19701101T020000
RRULE:FREQ=YEARLY;BYMONTH=11;BYDAY=1SU
END:STANDARD
END:VTIMEZONE
BEGIN:VEVENT
SEQUENCE:0
DTSTART;TZID=America/Chicago:20261106T120000
DTEND;TZID=America/Chicago:20261106T140000
DTSTAMP:20260424T101920Z
SUMMARY:MPH Applied Practice Experience & FSM Area of Scholarly Concentration Poster Session
UID:641866@northwestern.edu
TZID:America/Chicago
DESCRIPTION:You are cordially invited to an upcoming MPH/MD student poster session. This is a joint event  at which students in the Master of Public Health program will present their community-based applied practice project and second-year medical students will present their Area of Scholarly Concentration research.  This is a celebratory and networking event at which students will showcase their projects. Refreshments will be provided\, and we will have a poster award ceremony at the end. This is a great way to learn about the student work and to network with other public health professionals in the Chicago area. Feel free to invite your colleagues.  CELEBRATE our students' accomplishments as they present their APEx and AOSC projects.  LEARN about the wide range of public health and medical research projects happening in Chicago and beyond.  NETWORK with members of the public health community at Northwestern and at community organizations across the Chicagoland area.  Refreshments will be provided.  Parking passes are available for community partners.
LOCATION:Robert H Lurie Medical Research Center\, Lurie and Simpson Querrey Atriums\, 303 E. Superior\, Chicago\, IL 60611
TRANSP:OPAQUE
URL:https://planitpurple.northwestern.edu/event/641866
CREATED:20240307T060000Z
STATUS:CONFIRMED
LAST-MODIFIED:20260421T184402Z
PRIORITY:0
BEGIN:VALARM
TRIGGER:-PT10M
ACTION:DISPLAY
DESCRIPTION:Reminder
END:VALARM
END:VEVENT
END:VCALENDAR