BEGIN:VCALENDAR
PRODID:-//planitpurple.northwestern.edu//iCalendar Event//EN
VERSION:2.0
CALSCALE:GREGORIAN
METHOD:PUBLISH
CLASS:PUBLIC
BEGIN:VTIMEZONE
TZID:America/Chicago
TZURL:http://tzurl.org/zoneinfo-outlook/America/Chicago
X-LIC-LOCATION:America/Chicago
BEGIN:DAYLIGHT
TZOFFSETFROM:-0600
TZOFFSETTO:-0500
TZNAME:CDT
DTSTART:19700308T020000
RRULE:FREQ=YEARLY;BYMONTH=3;BYDAY=2SU
END:DAYLIGHT
BEGIN:STANDARD
TZOFFSETFROM:-0500
TZOFFSETTO:-0600
TZNAME:CST
DTSTART:19701101T020000
RRULE:FREQ=YEARLY;BYMONTH=11;BYDAY=1SU
END:STANDARD
END:VTIMEZONE
BEGIN:VEVENT
SEQUENCE:0
DTSTART;TZID=America/Chicago:20260519T143000
DTEND;TZID=America/Chicago:20260519T153000
DTSTAMP:20260424T054934Z
SUMMARY:Student Coffee Hour with Cathy Linh Che and Jess X. Snow
UID:641871@northwestern.edu
TZID:America/Chicago
DESCRIPTION:Join us for a coffee hour with filmmakers/poets Cathy Linh Che and Jess X. Snow\, collaborators on We Were the Scenery!  We Were the Scenery was shortlisted for the 98th Academy Awards for Best Documentary Short Film and won the Short film Jury Prize for Nonfiction at the Sundance Film Festival in 2025.  Cathy Linh Che is an award-winning poet and multidisciplinary artisT. Her recent poetry collection\, Becoming Ghost (Washington Square Press\, 2025) was a Finalist for the National Book Award. Her other work has received numerous awards\, including the Kundiman Poetry Prize\, Norma Farber First Book Award from the Poetry Society of America\, and the Best Poetry Book Award from the Association of Asian American Studies.  Jess X. Snow is an award-winning filmmaker and multidisciplinary artist and in 2023 was named one of Filmmaker Magazine’s 25 New Faces of Independent Film. Their films have been screened at university classrooms and film festivals worldwide: including BFI\, Rotterdam\, SFFilm\, BlackStar\, Ann Arbor\, Durban (Special Mention of the Jury). They are a Film Independent Fast Track fellow for their debut narrative feature\, WHEN THE RIVER SPLIT OPEN. Their work has been written about in Current\, Deadline\, Hyperallergic\, Filmmaker Magazine\, Screenslate\, the LA Times\, Journal of Asian American Studies and elsewhere. Specializing in cross-cultural and multi-lingual storytelling\, their filmmaking has taken them to China\, Vietnam\, the Philippines and North America.   \n\nRegister: https://www.eventbrite.com/e/student-coffee-hour-with-cathy-linh-che-and-jess-x-snow-tickets-1987951938763?aff=oddtdtcreator
LOCATION:Crowe Hall\, 1-132\, 1860 Campus Drive\, Evanston\, IL 60208
TRANSP:OPAQUE
URL:https://planitpurple.northwestern.edu/event/641871
CREATED:20260421T050000Z
STATUS:CONFIRMED
LAST-MODIFIED:20260421T050000Z
PRIORITY:0
BEGIN:VALARM
TRIGGER:-PT10M
ACTION:DISPLAY
DESCRIPTION:Reminder
END:VALARM
END:VEVENT
END:VCALENDAR