BEGIN:VCALENDAR
PRODID:-//planitpurple.northwestern.edu//iCalendar Event//EN
VERSION:2.0
CALSCALE:GREGORIAN
METHOD:PUBLISH
CLASS:PUBLIC
BEGIN:VTIMEZONE
TZID:America/Chicago
TZURL:http://tzurl.org/zoneinfo-outlook/America/Chicago
X-LIC-LOCATION:America/Chicago
BEGIN:DAYLIGHT
TZOFFSETFROM:-0600
TZOFFSETTO:-0500
TZNAME:CDT
DTSTART:19700308T020000
RRULE:FREQ=YEARLY;BYMONTH=3;BYDAY=2SU
END:DAYLIGHT
BEGIN:STANDARD
TZOFFSETFROM:-0500
TZOFFSETTO:-0600
TZNAME:CST
DTSTART:19701101T020000
RRULE:FREQ=YEARLY;BYMONTH=11;BYDAY=1SU
END:STANDARD
END:VTIMEZONE
BEGIN:VEVENT
SEQUENCE:0
DTSTART;TZID=America/Chicago:20260519T120000
DTEND;TZID=America/Chicago:20260519T130000
DTSTAMP:20260423T230224Z
SUMMARY:Anti-Asian Violence and Black-Asian Solidarity | Scott Kurashige Lunchtime talk
UID:641872@northwestern.edu
TZID:America/Chicago
DESCRIPTION:Lunch and a copy of Scott Kurashige's new book\, American Peril\, will be provided at the event.  The alarming rise in anti-Asian violence during the COVID-19 pandemic provoked a new wave of Asian American protests and media visibility. For hundreds of thousands of people\, this was an awakening auguring new possibilities for social justice activism. Amid this promising development\, a new round of interethnic tensions also arose\, largely in response to sensational accounts of Asian Americans being attacked in public by Black assailants followed by criticism of Asian American advocates embracing policing and criminalization in a manner that invoked anti-Black racism.  This topic is especially relevant on May 19\, the shared birthdays of Yuri Kochiyama\, Malcolm X and Ho Chi Minh. Drawing from his new book\, American Peril: The Violent History of Anti-Asian Racism\, Scott Kurashige will breakdown some of the most troubling incidents from the recent past and show how community organizers drew on a legacy of Black-Asian solidarity to offer non-carceral solutions that address the root causes of inequity and oppression.  Scott Kurashige serves as President and Literary Executor for the James and Grace Lee Boggs Foundation. He is the author or co-author of five books: The Shifting Grounds of Race: Black and Japanese Americans in the Making of Multiethnic Los Angeles (Princeton University Press\, 2008\, recipient of AHA and AAAS book awards); The Next American Revolution: Sustainable Activism for the Twenty-First Century with Grace Lee Boggs (UC Press\, 2011); The Fifty-Year Rebellion: How the U.S. Political Crisis Began in Detroit (UC Press\, 2017) Exiled to Motown: A Community History of Japanese Americans in Detroit with the Detroit JACL History Project Committee (University of Washington Press\, 2024)\, American Peril: The Violent History of Anti-Asian Racism (UC Press\, 2026). A scholar of history\, ethnic studies\, and social movements\, he has engaged in activism and community organizing in Detroit\, Los Angeles\, Philadelphia\, and Seattle.\n\nRegister: https://docs.google.com/forms/d/e/1FAIpQLSdc7AtQ2A8FI7TfJo841SOf2z1u9Hj_LDqqavoHPg-2C8by1w/viewform?usp=publish-editor
LOCATION:Crowe Hall\, 1-132\, 1860 Campus Drive\, Evanston\, IL 60208
TRANSP:OPAQUE
URL:https://planitpurple.northwestern.edu/event/641872
CREATED:20260421T050000Z
STATUS:CONFIRMED
LAST-MODIFIED:20260421T050000Z
PRIORITY:0
BEGIN:VALARM
TRIGGER:-PT10M
ACTION:DISPLAY
DESCRIPTION:Reminder
END:VALARM
END:VEVENT
END:VCALENDAR