BEGIN:VCALENDAR
PRODID:-//planitpurple.northwestern.edu//iCalendar Event//EN
VERSION:2.0
CALSCALE:GREGORIAN
METHOD:PUBLISH
CLASS:PUBLIC
BEGIN:VTIMEZONE
TZID:America/Chicago
TZURL:http://tzurl.org/zoneinfo-outlook/America/Chicago
X-LIC-LOCATION:America/Chicago
BEGIN:DAYLIGHT
TZOFFSETFROM:-0600
TZOFFSETTO:-0500
TZNAME:CDT
DTSTART:19700308T020000
RRULE:FREQ=YEARLY;BYMONTH=3;BYDAY=2SU
END:DAYLIGHT
BEGIN:STANDARD
TZOFFSETFROM:-0500
TZOFFSETTO:-0600
TZNAME:CST
DTSTART:19701101T020000
RRULE:FREQ=YEARLY;BYMONTH=11;BYDAY=1SU
END:STANDARD
END:VTIMEZONE
BEGIN:VEVENT
SEQUENCE:0
DTSTART;TZID=America/Chicago:20260512T153000
DTEND;TZID=America/Chicago:20260512T160000
DTSTAMP:20260425T160715Z
SUMMARY:HIV Mucosal Systems Symposium: Dr. Ujjwal Neogi
UID:641900@northwestern.edu
TZID:America/Chicago
DESCRIPTION:Title: Reprogramming Immunometabolic Memory to Target Viral Persistence  Systems virologist\, whose labs research focuses on the development and application of computational and omics tools to dissect the immunometabolic consequences of viral infections.
LOCATION:Simpson Querrey Biomedical Research Center\, Simpson Querrey Auditorium\, 303 E. Superior Street\, Chicago\, IL 60611
TRANSP:OPAQUE
URL:https://planitpurple.northwestern.edu/event/641900
CREATED:20260422T050000Z
STATUS:CONFIRMED
LAST-MODIFIED:20260422T050000Z
PRIORITY:0
BEGIN:VALARM
TRIGGER:-PT10M
ACTION:DISPLAY
DESCRIPTION:Reminder
END:VALARM
END:VEVENT
END:VCALENDAR