BEGIN:VCALENDAR
PRODID:-//planitpurple.northwestern.edu//iCalendar Event//EN
VERSION:2.0
CALSCALE:GREGORIAN
METHOD:PUBLISH
CLASS:PUBLIC
BEGIN:VTIMEZONE
TZID:America/Chicago
TZURL:http://tzurl.org/zoneinfo-outlook/America/Chicago
X-LIC-LOCATION:America/Chicago
BEGIN:DAYLIGHT
TZOFFSETFROM:-0600
TZOFFSETTO:-0500
TZNAME:CDT
DTSTART:19700308T020000
RRULE:FREQ=YEARLY;BYMONTH=3;BYDAY=2SU
END:DAYLIGHT
BEGIN:STANDARD
TZOFFSETFROM:-0500
TZOFFSETTO:-0600
TZNAME:CST
DTSTART:19701101T020000
RRULE:FREQ=YEARLY;BYMONTH=11;BYDAY=1SU
END:STANDARD
END:VTIMEZONE
BEGIN:VEVENT
SEQUENCE:0
DTSTART;VALUE=DATE:20261102
DTEND;VALUE=DATE:20261103
DTSTAMP:20260424T213719Z
SUMMARY:Winter quarter courses viewable in CAESAR for the following: Communication\, Education\, Engineering\, Journalism and Music Graduate and Undergraduate Programs\, Non-Degree\, TGS
UID:641905@northwestern.edu
TZID:America/Chicago
DESCRIPTION:Winter quarter courses viewable in CAESAR for the following: Communication\, Education\, Engineering\, Journalism and Music Graduate and Undergraduate Programs\, Non-Degree\, TGS
LOCATION:
TRANSP:TRANSPARENT
URL:https://planitpurple.northwestern.edu/event/641905
CREATED:20260422T050000Z
STATUS:CONFIRMED
LAST-MODIFIED:20260422T165536Z
PRIORITY:0
END:VEVENT
END:VCALENDAR