BEGIN:VCALENDAR
PRODID:-//planitpurple.northwestern.edu//iCalendar Event//EN
VERSION:2.0
CALSCALE:GREGORIAN
METHOD:PUBLISH
CLASS:PUBLIC
BEGIN:VTIMEZONE
TZID:America/New_York
TZURL:https://www.tzurl.org/zoneinfo-outlook/America/New_York
X-LIC-LOCATION:America/New_York
BEGIN:DAYLIGHT
TZNAME:EDT
TZOFFSETFROM:-0500
TZOFFSETTO:-0400
DTSTART:19700308T020000
RRULE:FREQ=YEARLY;BYMONTH=3;BYDAY=2SU
END:DAYLIGHT
BEGIN:STANDARD
TZNAME:EST
TZOFFSETFROM:-0400
TZOFFSETTO:-0500
DTSTART:19701101T020000
RRULE:FREQ=YEARLY;BYMONTH=11;BYDAY=1SU
END:STANDARD
END:VTIMEZONE
BEGIN:VEVENT
SEQUENCE:0
DTSTART;TZID=America/New_York:20260429T190000
DTEND;TZID=America/New_York:20260429T200000
DTSTAMP:20260425T171353Z
SUMMARY:Weill Cornell Medical College Info Session
UID:641939@northwestern.edu
TZID:America/New_York
DESCRIPTION: These sessions are intended for students at various stages of their pre‑medical journey and offer time for questions with our admissions team.\n\nWebcast Link: https://weillcornell.zoom.us/meeting/register/RMxmJMKUSOS9RAuGmHUuDA#/registration\n\nRegister: https://weillcornell.zoom.us/meeting/register/RMxmJMKUSOS9RAuGmHUuDA#/registration
LOCATION:Online
TRANSP:OPAQUE
URL:https://planitpurple.northwestern.edu/event/641939
CREATED:20260423T050000Z
STATUS:CONFIRMED
LAST-MODIFIED:20260423T050000Z
PRIORITY:0
BEGIN:VALARM
TRIGGER:-PT10M
ACTION:DISPLAY
DESCRIPTION:Reminder
END:VALARM
END:VEVENT
END:VCALENDAR