BEGIN:VCALENDAR
PRODID:-//planitpurple.northwestern.edu//iCalendar Event//EN
VERSION:2.0
CALSCALE:GREGORIAN
METHOD:PUBLISH
CLASS:PUBLIC
BEGIN:VTIMEZONE
TZID:America/Chicago
TZURL:http://tzurl.org/zoneinfo-outlook/America/Chicago
X-LIC-LOCATION:America/Chicago
BEGIN:DAYLIGHT
TZOFFSETFROM:-0600
TZOFFSETTO:-0500
TZNAME:CDT
DTSTART:19700308T020000
RRULE:FREQ=YEARLY;BYMONTH=3;BYDAY=2SU
END:DAYLIGHT
BEGIN:STANDARD
TZOFFSETFROM:-0500
TZOFFSETTO:-0600
TZNAME:CST
DTSTART:19701101T020000
RRULE:FREQ=YEARLY;BYMONTH=11;BYDAY=1SU
END:STANDARD
END:VTIMEZONE
BEGIN:VEVENT
SEQUENCE:0
DTSTART;TZID=America/Chicago:20260430T170000
DTEND;TZID=America/Chicago:20260430T190000
DTSTAMP:20260424T213716Z
SUMMARY:Data Science Nights - APRIL 2026 - Speaker: Joshua Stadlan\, NICO and COMPASS
UID:641953@northwestern.edu
TZID:America/Chicago
DESCRIPTION:APRIL MEETING: Thursday\, April 30\, 2026 at 5:00pm (US Central)  LOCATION:  ESAM Conference Room\, Tech M416  2145 Sheridan Road\, Evanston\, IL 60208  AGENDA: PLEASE NOTE: this event is starting at 5pm this month. 5:00pm - Meet and greet with refreshments 5:30pm - Talk with Joshua Stadlan\, Research Associate Professor\, Northwestern Institute on Complex Systems (NICO); Core Faculty\, Center for Computational & Social Sciences in Health (COMPASS)  TALK TITLE: Why do we Socialize in Bursts? Using data and Particle Models to Study Human Interaction  ABSTRACT:  At large social events\, conversations do not happen at a steady pace. Many are short and clustered together\, while some last much longer or are separated by long gaps. This “burstiness” affects how people connect and how disease\, news\, or opinions spread through groups. In this talk\, I use data and simple particle models to explore possible explanations for social burstiness. A common idea is that some people naturally attract more attention\, which can generate burstiness. I show that simpler models can also generate burstiness\, even without building in fixed differences between people. Join us in exploring how observational data and theory-driven modeling can together test explanations for patterns in our social lives.  DATA SCIENCE NIGHTS are monthly meetings featuring presentations and discussions about data-driven science and complex systems\, organized by Northwestern University graduate students and scholars. Students and researchers of all levels are welcome! For more information: http://bit.ly/nico-dsn  FUTURE DATES: Data Science Nights will be held on Thursday evenings in the winter and spring terms\, with future dates May 28\, 2026.\n\nMore Info: https://www.nico.northwestern.edu/news-events/data-science-nights.html
LOCATION:Technological Institute\, M416\, 2145 Sheridan Road\, Evanston\, IL 60208
TRANSP:OPAQUE
URL:https://www.nico.northwestern.edu/news-events/data-science-nights.html
CREATED:20220421T050000Z
STATUS:CONFIRMED
LAST-MODIFIED:20260424T175626Z
PRIORITY:0
BEGIN:VALARM
TRIGGER:-PT10M
ACTION:DISPLAY
DESCRIPTION:Reminder
END:VALARM
END:VEVENT
END:VCALENDAR