BEGIN:VCALENDAR
PRODID:-//planitpurple.northwestern.edu//iCalendar Event//EN
VERSION:2.0
CALSCALE:GREGORIAN
METHOD:PUBLISH
CLASS:PUBLIC
BEGIN:VTIMEZONE
TZID:America/Chicago
TZURL:http://tzurl.org/zoneinfo-outlook/America/Chicago
X-LIC-LOCATION:America/Chicago
BEGIN:DAYLIGHT
TZOFFSETFROM:-0600
TZOFFSETTO:-0500
TZNAME:CDT
DTSTART:19700308T020000
RRULE:FREQ=YEARLY;BYMONTH=3;BYDAY=2SU
END:DAYLIGHT
BEGIN:STANDARD
TZOFFSETFROM:-0500
TZOFFSETTO:-0600
TZNAME:CST
DTSTART:19701101T020000
RRULE:FREQ=YEARLY;BYMONTH=11;BYDAY=1SU
END:STANDARD
END:VTIMEZONE
BEGIN:VEVENT
SEQUENCE:0
DTSTART;VALUE=DATE:20210521
DTEND;VALUE=DATE:20210522
DTSTAMP:20260422T072928Z
SUMMARY:2021 National LGBTQ Health Conference
UID:572111@northwestern.edu
TZID:America/Chicago
DESCRIPTION:The 2021 National LGBT Health Conference will be held virtually on May 20 – 21\, 2021.  The conference’s keynote and symposia focus on COVID-19 and anti-Black racism affecting the sexual and gender minority (SGM) community. A special symposium dedicated to community responses to COVID-19 will be organized by Howard Brown Health.  A pre-conference session on April 13 at 12 pm CT will focus on using Twitter to broaden the networks of academics\, community organizations\, and clinical professionals working in LGBTQ health. Conference participants are encouraged to create a Twitter account (and use #NationalLGBTQHealthConference) to connect with other attendees during and after the conference.  We are currently accepting abstract submissions through our online portal. The submission deadline is March 1\, 2021.  Registration details will be announced in early 2021. Please join our mailing list and visit the official conference website to ensure you receive the latest updates about the 2021 conference.\n\nMore Info: https://lgbtqhealthconference.org/2021-virtual-conference\n\nWebcast Link: https://lgbtqhealthconference.org/2021-virtual-conference\n\nRegister: https://lgbtqhealthconference.org/2021-virtual-conference
LOCATION:Online
TRANSP:TRANSPARENT
URL:https://lgbtqhealthconference.org/2021-virtual-conference
CREATED:20210121T060000Z
STATUS:CONFIRMED
LAST-MODIFIED:20230726T203101Z
PRIORITY:0
END:VEVENT
END:VCALENDAR