BEGIN:VCALENDAR
PRODID:-//planitpurple.northwestern.edu//iCalendar Event//EN
VERSION:2.0
CALSCALE:GREGORIAN
METHOD:PUBLISH
CLASS:PUBLIC
BEGIN:VTIMEZONE
TZID:America/Chicago
TZURL:http://tzurl.org/zoneinfo-outlook/America/Chicago
X-LIC-LOCATION:America/Chicago
BEGIN:DAYLIGHT
TZOFFSETFROM:-0600
TZOFFSETTO:-0500
TZNAME:CDT
DTSTART:19700308T020000
RRULE:FREQ=YEARLY;BYMONTH=3;BYDAY=2SU
END:DAYLIGHT
BEGIN:STANDARD
TZOFFSETFROM:-0500
TZOFFSETTO:-0600
TZNAME:CST
DTSTART:19701101T020000
RRULE:FREQ=YEARLY;BYMONTH=11;BYDAY=1SU
END:STANDARD
END:VTIMEZONE
BEGIN:VEVENT
SEQUENCE:0
DTSTART;TZID=America/Chicago:20220608T130000
DTEND;TZID=America/Chicago:20220608T140000
DTSTAMP:20260422T001529Z
SUMMARY:The Impact of COVID-19 on Sexual and Gender Minority Communities
UID:588510@northwestern.edu
TZID:America/Chicago
DESCRIPTION:The New York and West Coast Regional Offices of the Northwestern Alumni Association\, in collaboration with Northwestern University Feinberg School of Medicine\, present a special webinar series that examines how the pandemic has exacerbated health disparities and the challenges underrepresented communities face in the wake of COVID-19 entitled The Pandemic Made It Worse.    In the third and final webinar of this series\, ISGMH faculty Jagadīśa-devaśrī Dācus\, PhD\, MSSW\, and Brian Mustanski\, PhD\, will talk about the health disparities that sexual and gender minority communities experience compared to heterosexual and cisgender populations\, and how recovery and post-COVID-19 programs can better address the rights\, needs\, and strengths of these communities.\n\nMore Info: https://isgmh.northwestern.edu/calendar_event/the-impact-of-covid-19-on-sexual-and-gender-minority-communities/\n\nRegister: https://secure.ard.northwestern.edu/s/1479/02-naa/16/interior_no-utility.aspx?sid=1479&gid=2&pgid=39905&cid=70869
LOCATION:Online
TRANSP:OPAQUE
URL:https://isgmh.northwestern.edu/calendar_event/the-impact-of-covid-19-on-sexual-and-gender-minority-communities/
CREATED:20220428T050000Z
STATUS:CONFIRMED
LAST-MODIFIED:20230726T203101Z
PRIORITY:0
BEGIN:VALARM
TRIGGER:-PT10M
ACTION:DISPLAY
DESCRIPTION:Reminder
END:VALARM
END:VEVENT
END:VCALENDAR