BEGIN:VCALENDAR
PRODID:-//planitpurple.northwestern.edu//iCalendar Event//EN
VERSION:2.0
CALSCALE:GREGORIAN
METHOD:PUBLISH
CLASS:PUBLIC
BEGIN:VTIMEZONE
TZID:America/Chicago
TZURL:http://tzurl.org/zoneinfo-outlook/America/Chicago
X-LIC-LOCATION:America/Chicago
BEGIN:DAYLIGHT
TZOFFSETFROM:-0600
TZOFFSETTO:-0500
TZNAME:CDT
DTSTART:19700308T020000
RRULE:FREQ=YEARLY;BYMONTH=3;BYDAY=2SU
END:DAYLIGHT
BEGIN:STANDARD
TZOFFSETFROM:-0500
TZOFFSETTO:-0600
TZNAME:CST
DTSTART:19701101T020000
RRULE:FREQ=YEARLY;BYMONTH=11;BYDAY=1SU
END:STANDARD
END:VTIMEZONE
BEGIN:VEVENT
SEQUENCE:0
DTSTART;TZID=America/Chicago:20220614T120000
DTEND;TZID=America/Chicago:20220614T133000
DTSTAMP:20260422T034141Z
SUMMARY:2022 ISGMH Pride Panel: What Pride Means to Us
UID:589001@northwestern.edu
TZID:America/Chicago
DESCRIPTION:ISGMH invites you to join us for this year’s virtual Pride Panel. Each year\, we revisit the topic\, “What Does Pride Mean to Us?” highlighting different groups of voices within the LGBTQ community. We are thrilled to invite Kim Fountain\, Lauren Miller\, Imani Rupert-Gordon\, and moderator Kim Hunt as our panelists for this year’s event.     This panel event is free and open to the public\, but registration is required.\n\nMore Info: https://isgmh.northwestern.edu/calendar_event/2022-isgmh-pride-panel-what-pride-means-to-us/\n\nRegister: https://northwestern.zoom.us/webinar/register/WN_SBKj_kSiTua2tGjXmaomdw
LOCATION:
TRANSP:OPAQUE
URL:https://isgmh.northwestern.edu/calendar_event/2022-isgmh-pride-panel-what-pride-means-to-us/
CREATED:20220531T050000Z
STATUS:CONFIRMED
LAST-MODIFIED:20230726T203101Z
PRIORITY:0
BEGIN:VALARM
TRIGGER:-PT10M
ACTION:DISPLAY
DESCRIPTION:Reminder
END:VALARM
END:VEVENT
END:VCALENDAR