BEGIN:VCALENDAR
PRODID:-//planitpurple.northwestern.edu//iCalendar Event//EN
VERSION:2.0
CALSCALE:GREGORIAN
METHOD:PUBLISH
CLASS:PUBLIC
BEGIN:VTIMEZONE
TZID:America/Chicago
TZURL:http://tzurl.org/zoneinfo-outlook/America/Chicago
X-LIC-LOCATION:America/Chicago
BEGIN:DAYLIGHT
TZOFFSETFROM:-0600
TZOFFSETTO:-0500
TZNAME:CDT
DTSTART:19700308T020000
RRULE:FREQ=YEARLY;BYMONTH=3;BYDAY=2SU
END:DAYLIGHT
BEGIN:STANDARD
TZOFFSETFROM:-0500
TZOFFSETTO:-0600
TZNAME:CST
DTSTART:19701101T020000
RRULE:FREQ=YEARLY;BYMONTH=11;BYDAY=1SU
END:STANDARD
END:VTIMEZONE
BEGIN:VEVENT
SEQUENCE:0
DTSTART;TZID=America/Chicago:20220623T120000
DTEND;TZID=America/Chicago:20220623T130000
DTSTAMP:20260422T001529Z
SUMMARY:The Evolving Legal Landscape for Transgender Youth with Christy Mallory\, J.D.
UID:589003@northwestern.edu
TZID:America/Chicago
DESCRIPTION:The Medical and Social Sciences Department Health Equity Hub invites you to join their upcoming Food For Thought event! Guest speaker Christy Mallory\, J.D.\, will speak on the current legal landscape for transgender youth in the United States.     This event is free and open to the public but registration is required. \n\nMore Info: https://isgmh.northwestern.edu/calendar_event/the-evolving-legal-landscape-for-transgender-youth-with-christy-mallory-j-d/\n\nRegister: https://northwestern.zoom.us/webinar/register/WN_ITOXBe7iTDqAxAT3sIeCLA
LOCATION:Online
TRANSP:OPAQUE
URL:https://isgmh.northwestern.edu/calendar_event/the-evolving-legal-landscape-for-transgender-youth-with-christy-mallory-j-d/
CREATED:20220531T050000Z
STATUS:CONFIRMED
LAST-MODIFIED:20230726T203101Z
PRIORITY:0
BEGIN:VALARM
TRIGGER:-PT10M
ACTION:DISPLAY
DESCRIPTION:Reminder
END:VALARM
END:VEVENT
END:VCALENDAR